Workbook
Name ц304: UnObr4!$C$285

Sheet Uputstvo
A1: Potrebno je ući u Tools>Macro>Security i podesiti Security Level na MEDIUM ili LOW. (excel 2003) ili office button > excel options > trust center > trust center settings > macro settings > enable all macros > ok > ok (excel 2007). U oba slučaja čekirati Trust access to the Visual Basic (VBA) project object model Zatim izaći iz programa pa ponovo pokrenuti datoteku
A3: U kartici "Podaci" popunjavaju se podaci o korisniku budžetskih sredstava i njih je neophodno uneti zbog štampe obrazaca. Jedinstveni broj KBS i matični broj se popunjavaju sa vodećim nulama.
A5: U karticama UnObr1, UnObr2, UnObr3, UnObr4, UnObr5 :
A7: Popunjavaju se samo bela polja, dok se u zasenčenim podaci sami izračunavaju.
A9: Nisu dozvoljeni zarezi i tačke, podaci se upisuju samo kao celi brojevi.
A11: Pritiskom na zeleno dugme "Štampa" dobija se forma za štampu za taj obrazac.
A13: U kartici "Kontrole" nalaze se logičke kontrole u upoređenja ispravnosti jedinstvenog broja KBS i matičnog broja prema spisku Uprave za trezor. Ukoliko su polja crvene boje, znači da ta logička kontrola nije dobra ili su neispravni ili neupareni jedinstveni broj KBS i matični broj (treba da budu zelene boje).
A15: Na kraju rada, sveska se spašava kao "Zavrsni_XXXXX_N, gde je XXXXX oznaka JBBK, a N oznaka statusne promene. Ukoliko nije bilo statusne promene oznaka N je "0", a ukoliko je bilo statusne promene oznaka N za period pre statusne promene je "1", a posle statusne promene"2".
A16: Postupak spašavanja: File>Save As... Zavrsni_00458_0.xls (primer za JBKB 458 i bez statusne promene)
A100: x

Sheet Podaci
B2: Јединствени број КБС: | M2: 00938
B4: НАЗИВ КОРИСНИКА БУЏЕТСКИХ СРЕДСТАВА:
B5: О.Ш.ВУК КАРАЏИЋ
B7: СЕДИШТЕ: | H7: СМ.ПАЛАНКА | R7: МАТИЧНИ БРОЈ: | Z7: 07348169
B9: ПИБ: | E9: 101619041 | R9: БРОЈ ПОДРАЧУНА: | AA9: 840-834660-09
B11: НАЗИВ НАДЛЕЖНОГ ДИРЕКТНОГ КОРИСНИКА БУЏЕТСКИХ СРЕДСТАВА:
B12: МИНИСТАРСТВО ПРОСВЕТЕ ,НАУКЕ И ТЕХНОЛОШКОГ РАЗВОЈА
B13: (Попуњава само индиректни корисник буџетских средстава)
B16: Период за који се ради финансијски извештај:
B17: од: | D17: 01.01.2021 | M17: (дд.мм.гггг.)
B18: до: | D18: 31.12.2021 | M18: (дд.мм.гггг.)
B21: Датум: | E21: 27.02.2021 | N21: (дд.мм.гггг.)

Sheet StObr1
AL1: Образац 1
A2: ПОПУЊАВА УПРАВА ЗА ТРЕЗОР - ФИЛИЈАЛА
A3: 7 | B3: 5 | C3: 1 | F3: =IF(LEN(Podaci!M2) > 4, MID(RIGHT(Podaci!$M$2,5),1,1),0) -> 0 | G3: =IF(LEN(Podaci!M2) > 3, MID(RIGHT(Podaci!$M$2,4),1,1),0) -> 0 | H3: =IF(LEN(Podaci!M2) > 2, MID(RIGHT(Podaci!$M$2,3),1,1),0) -> 9 | I3: =MID(RIGHT(Podaci!$M$2,2),1,1) -> 3 | J3: =MID(RIGHT(Podaci!$M$2,1),1,1) -> 8 | L3: =IF(LEN(Podaci!Z7) > 7, MID(RIGHT(Podaci!$Z$7,8),1,1),0) -> 0 | M3: =IF(LEN(Podaci!Z7) > 6, MID(RIGHT(Podaci!$Z$7,7),1,1),0) -> 7 | N3: =MID(RIGHT(Podaci!$Z$7,6),1,1) -> 3 | O3: =MID(RIGHT(Podaci!$Z$7,5),1,1) -> 4 | P3: =MID(RIGHT(Podaci!$Z$7,4),1,1) -> 8 | Q3: =MID(RIGHT(Podaci!$Z$7,3),1,1) -> 1 | R3: =MID(RIGHT(Podaci!$Z$7,2),1,1) -> 6 | S3: =MID(RIGHT(Podaci!$Z$7,1),1,1) -> 9
A4: 1 | B4: 2 | C4: 3 | E4: 4 | F4: 5 | G4: 6 | H4: 7 | I4: 8 | J4: 9 | L4: 10 | M4: 11 | N4: 12 | O4: 13 | P4: 14 | Q4: 15 | R4: 16 | S4: 17 | U4: 18 | V4: 19 | W4: 20 | X4: 21 | Y4: 22 | AA4: 23 | AB4: 24 | AC4: 25 | AD4: 26 | AE4: 27 | AG4: 28 | AI4: 29 | AJ4: 30 | AK4: 31 | AL4: 32 | AM4: 33 | AN4: 34 | AO4: 35 | AP4: 36 | AQ4: 37 | AR4: 38
A5: Врста посла | E5: Јединствени број КБС | U5: Седиште УТ | AA5: Надлежни директни КБС
B8: НАЗИВ КОРИСНИКА БУЏЕТСКИХ СРЕДСТАВА
B9: =Podaci!B5 -> О.Ш.ВУК КАРАЏИЋ
B11: СЕДИШТЕ | H11: =Podaci!H7 -> СМ.ПАЛАНКА | R11: МАТИЧНИ БРОЈ | Z11: =Podaci!Z7 -> 07348169
B13: ПИБ | E13: =Podaci!E9 -> 101619041 | R13: БРОЈ ПОДРАЧУНА | Z13: =Podaci!AA9 -> 840-834660-09
B15: НАЗИВ НАДЛЕЖНОГ ДИРЕКТНОГ КОРИСНИКА БУЏЕТСКИХ СРЕДСТАВА
B17: =Podaci!B12 -> МИНИСТАРСТВО ПРОСВЕТЕ ,НАУКЕ И ТЕХНОЛОШКОГ РАЗВОЈА
B18: (Попуњава само индиректни корисник буџетских средстава)
P21: БИЛАНС СТАЊА
K22: у периоду од | P22: =Podaci!D17 -> 01.01.2021 | U22: године | X22: до | Z22: =Podaci!D18 -> 31.12.2021 | AE22: године
AJ24: (У хиљадама динара)
A25: Ознака ОП | D25: Број конта | H25: Опис | Y25: Износ из претходне године (почетно стање) | AD25: Износ текуће године
AD28: Бруто | AI28: Исправка вредности | AN28: Нето (5 - 6)
A29: 1 | D29: 2 | H29: 3 | Y29: 4 | AD29: 5 | AI29: 6 | AN29: 7
H30: АКТИВА
A31: 1001 | D31: 000000 | H31: НEФИНАНСИЈСКА ИМОВИНА (1002 + 1020) | Y31: =UnObr1!D6 -> 0 | AD31: =UnObr1!E6 -> 108136 | AI31: =UnObr1!F6 -> 35417 | AN31: =UnObr1!G6 -> 72719
A32: 1002 | D32: 010000 | H32: НЕФИНАНСИЈСКА ИМОВИНА У СТАЛНИМ СРЕДСТВИМА (1003 + 1007 + 1009 + 1011 + 1015 + 1018) | Y32: =UnObr1!D7 -> 0 | AD32: =UnObr1!E7 -> 108136 | AI32: =UnObr1!F7 -> 35417 | AN32: =UnObr1!G7 -> 72719
A33: 1003 | D33: 011000 | H33: НЕКРЕТНИНЕ И ОПРЕМА (од 1004 до 1006) | Y33: =UnObr1!D8 -> 0 | AD33: =UnObr1!E8 -> 101691 | AI33: =UnObr1!F8 -> 35417 | AN33: =UnObr1!G8 -> 66274
A34: 1004 | D34: 011100 | H34: Зграде и грађевински објекти | Y34: =UnObr1!D9 -> 0 | AD34: =UnObr1!E9 -> 97535 | AI34: =UnObr1!F9 -> 32171 | AN34: =UnObr1!G9 -> 65364
A35: 1005 | D35: 011200 | H35: Опрема | Y35: =UnObr1!D10 -> 0 | AD35: =UnObr1!E10 -> 3884 | AI35: =UnObr1!F10 -> 3246 | AN35: =UnObr1!G10 -> 638
A36: 1006 | D36: 011300 | H36: Остале некретнине и опрема | Y36: =UnObr1!D11 -> 0 | AD36: =UnObr1!E11 -> 272 | AI36: =UnObr1!F11 -> 0 | AN36: =UnObr1!G11 -> 272
A37: 1007 | D37: 012000 | H37: КУЛТИВИСАНА ИМОВИНА (1008) | Y37: =UnObr1!D12 -> 0 | AD37: =UnObr1!E12 -> 0 | AI37: =UnObr1!F12 -> 0 | AN37: =UnObr1!G12 -> 0
A38: 1008 | D38: 012100 | H38: Култивисана имовина | Y38: =UnObr1!D13 -> 0 | AD38: =UnObr1!E13 -> 0 | AI38: =UnObr1!F13 -> 0 | AN38: =UnObr1!G13 -> 0
A39: 1009 | D39: 013000 | H39: ДРАГОЦЕНОСТИ (1010) | Y39: =UnObr1!D14 -> 0 | AD39: =UnObr1!E14 -> 0 | AI39: =UnObr1!F14 -> 0 | AN39: =UnObr1!G14 -> 0
A40: 1010 | D40: 013100 | H40: Драгоцености | Y40: =UnObr1!D15 -> 0 | AD40: =UnObr1!E15 -> 0 | AI40: =UnObr1!F15 -> 0 | AN40: =UnObr1!G15 -> 0
A41: 1011 | D41: 014000 | H41: ПРИРОДНА ИМОВИНА (од 1012 до 1014) | Y41: =UnObr1!D16 -> 0 | AD41: =UnObr1!E16 -> 6445 | AI41: =UnObr1!F16 -> 0 | AN41: =UnObr1!G16 -> 6445
A42: 1012 | D42: 014100 | H42: Земљиште | Y42: =UnObr1!D17 -> 0 | AD42: =UnObr1!E17 -> 6445 | AI42: =UnObr1!F17 -> 0 | AN42: =UnObr1!G17 -> 6445
... A46: 1016 | D46: 015100 | H46: Нефинансијска имовина у припреми | Y46: =UnObr1!D21 -> 0 | AD46: =UnObr1!E21 -> 0 | AI46: =UnObr1!F21 -> 0 | AN46: =UnObr1!G21 -> 0
A47: Ознака ОП | D47: Број конта | H47: Опис | Y47: Износ из претходне године (почетно стање) | AD47: Износ текуће године
AD50: Бруто | AI50: Исправка вредности | AN50: Нето (5 - 6)
A51: 1 | D51: 2 | H51: 3 | Y51: 4 | AD51: 5 | AI51: 6 | AN51: 7
A52: 1017 | D52: 015200 | E52: 21000 | F52: 21000 | G52: 21000 | H52: Аванси за нефинансијску имовину | I52: ЗАЛИХЕ (од 1018 до 1020) | J52: ЗАЛИХЕ (од 1018 до 1020) | K52: ЗАЛИХЕ (од 1018 до 1020) | L52: ЗАЛИХЕ (од 1018 до 1020) | M52: ЗАЛИХЕ (од 1018 до 1020) | N52: ЗАЛИХЕ (од 1018 до 1020) | O52: ЗАЛИХЕ (од 1018 до 1020) | P52: ЗАЛИХЕ (од 1018 до 1020) | Q52: ЗАЛИХЕ (од 1018 до 1020) | R52: ЗАЛИХЕ (од 1018 до 1020) | S52: ЗАЛИХЕ (од 1018 до 1020) | T52: ЗАЛИХЕ (од 1018 до 1020) | U52: ЗАЛИХЕ (од 1018 до 1020) | V52: ЗАЛИХЕ (од 1018 до 1020) | W52: ЗАЛИХЕ (од 1018 до 1020) | X52: ЗАЛИХЕ (од 1018 до 1020) | Y52: =UnObr1!D22 -> 0 | AD52: =UnObr1!E22 -> 0 | AI52: =UnObr1!F22 -> 0 | AN52: =UnObr1!G22 -> 0
A53: 1018 | D53: 016000 | E53: 21000 | F53: 21000 | G53: 21000 | H53: НЕМАТЕРИЈАЛНА ИМОВИНА (1019) | I53: ЗАЛИХЕ (од 1018 до 1020) | J53: ЗАЛИХЕ (од 1018 до 1020) | K53: ЗАЛИХЕ (од 1018 до 1020) | L53: ЗАЛИХЕ (од 1018 до 1020) | M53: ЗАЛИХЕ (од 1018 до 1020) | N53: ЗАЛИХЕ (од 1018 до 1020) | O53: ЗАЛИХЕ (од 1018 до 1020) | P53: ЗАЛИХЕ (од 1018 до 1020) | Q53: ЗАЛИХЕ (од 1018 до 1020) | R53: ЗАЛИХЕ (од 1018 до 1020) | S53: ЗАЛИХЕ (од 1018 до 1020) | T53: ЗАЛИХЕ (од 1018 до 1020) | U53: ЗАЛИХЕ (од 1018 до 1020) | V53: ЗАЛИХЕ (од 1018 до 1020) | W53: ЗАЛИХЕ (од 1018 до 1020) | X53: ЗАЛИХЕ (од 1018 до 1020) | Y53: =UnObr1!D23 -> 0 | AD53: =UnObr1!E23 -> 0 | AI53: =UnObr1!F23 -> 0 | AN53: =UnObr1!G23 -> 0
A54: 1019 | D54: 016100 | E54: 21000 | F54: 21000 | G54: 21000 | H54: Нематеријална имовина | I54: ЗАЛИХЕ (од 1018 до 1020) | J54: ЗАЛИХЕ (од 1018 до 1020) | K54: ЗАЛИХЕ (од 1018 до 1020) | L54: ЗАЛИХЕ (од 1018 до 1020) | M54: ЗАЛИХЕ (од 1018 до 1020) | N54: ЗАЛИХЕ (од 1018 до 1020) | O54: ЗАЛИХЕ (од 1018 до 1020) | P54: ЗАЛИХЕ (од 1018 до 1020) | Q54: ЗАЛИХЕ (од 1018 до 1020) | R54: ЗАЛИХЕ (од 1018 до 1020) | S54: ЗАЛИХЕ (од 1018 до 1020) | T54: ЗАЛИХЕ (од 1018 до 1020) | U54: ЗАЛИХЕ (од 1018 до 1020) | V54: ЗАЛИХЕ (од 1018 до 1020) | W54: ЗАЛИХЕ (од 1018 до 1020) | X54: ЗАЛИХЕ (од 1018 до 1020) | Y54: =UnObr1!D24 -> 0 | AD54: =UnObr1!E24 -> 0 | AI54: =UnObr1!F24 -> 0 | AN54: =UnObr1!G24 -> 0
A55: 1020 | D55: 020000 | E55: 21000 | F55: 21000 | G55: 21000 | H55: НЕФИНАНСИЈСКА ИМОВИНА У ЗАЛИХАМА (1021 + 1025) | I55: ЗАЛИХЕ (од 1018 до 1020) | J55: ЗАЛИХЕ (од 1018 до 1020) | K55: ЗАЛИХЕ (од 1018 до 1020) | L55: ЗАЛИХЕ (од 1018 до 1020) | M55: ЗАЛИХЕ (од 1018 до 1020) | N55: ЗАЛИХЕ (од 1018 до 1020) | O55: ЗАЛИХЕ (од 1018 до 1020) | P55: ЗАЛИХЕ (од 1018 до 1020) | Q55: ЗАЛИХЕ (од 1018 до 1020) | R55: ЗАЛИХЕ (од 1018 до 1020) | S55: ЗАЛИХЕ (од 1018 до 1020) | T55: ЗАЛИХЕ (од 1018 до 1020) | U55: ЗАЛИХЕ (од 1018 до 1020) | V55: ЗАЛИХЕ (од 1018 до 1020) | W55: ЗАЛИХЕ (од 1018 до 1020) | X55: ЗАЛИХЕ (од 1018 до 1020) | Y55: =UnObr1!D25 -> 0 | AD55: =UnObr1!E25 -> 0 | AI55: =UnObr1!F25 -> 0 | AN55: =UnObr1!G25 -> 0
A56: 1021 | D56: 021000 | E56: 21000 | F56: 21000 | G56: 21000 | H56: ЗАЛИХЕ (од 1022 до 1024) | I56: ЗАЛИХЕ (од 1018 до 1020) | J56: ЗАЛИХЕ (од 1018 до 1020) | K56: ЗАЛИХЕ (од 1018 до 1020) | L56: ЗАЛИХЕ (од 1018 до 1020) | M56: ЗАЛИХЕ (од 1018 до 1020) | N56: ЗАЛИХЕ (од 1018 до 1020) | O56: ЗАЛИХЕ (од 1018 до 1020) | P56: ЗАЛИХЕ (од 1018 до 1020) | Q56: ЗАЛИХЕ (од 1018 до 1020) | R56: ЗАЛИХЕ (од 1018 до 1020) | S56: ЗАЛИХЕ (од 1018 до 1020) | T56: ЗАЛИХЕ (од 1018 до 1020) | U56: ЗАЛИХЕ (од 1018 до 1020) | V56: ЗАЛИХЕ (од 1018 до 1020) | W56: ЗАЛИХЕ (од 1018 до 1020) | X56: ЗАЛИХЕ (од 1018 до 1020) | Y56: =UnObr1!D26 -> 0 | AD56: =UnObr1!E26 -> 0 | AI56: =UnObr1!F26 -> 0 | AN56: =UnObr1!G26 -> 0
...

Sheet UnObr2
A1: Ознака ОП | B1: Конто | C1: Опис | D1: Износ | G1: Штампа
D2: Претходна година | E2: Текућа година
A3: 2001 | C3: ТЕКУЋИ ПРИХОДИ И ПРИМАЊА ОД ПРОДАЈЕ НЕФИНАНСИЈСКЕ ИМОВИНЕ (2002 + 2106) | D3: =D4+D108 -> 0 | E3: =E4+E108 -> 56730
A4: 2002 | B4: 700000 | C4: ТЕКУЋИ ПРИХОДИ (2003 + 2047 + 2057 + 2069 + 2094 + 2099 + 2103) | D4: =D5+D49+D59+D71+D96+D101+D105 -> 0 | E4: =E5+E49+E59+E71+E96+E101+E105 -> 56730
A5: 2003 | B5: 710000 | C5: ПОРЕЗИ (2004 + 2008 + 2010 + 2017 + 2023 + 2030 + 2033 + 2040) | D5: =D6+D10+D12+D19+D25+D32+D35+D42 -> 0 | E5: =E6+E10+E12+E19+E25+E32+E35+E42 -> 0
A6: 2004 | B6: 711000 | C6: ПОРЕЗ НА ДОХОДАК, ДОБИТ И КАПИТАЛНЕ ДОБИТКЕ (од 2005 до 2007) | D6: =SUM(D7:D9) -> 0 | E6: =SUM(E7:E9) -> 0
A7: 2005 | B7: 711100 | C7: Порези на доходак и капиталне добитке које плаћају физичка лица
A8: 2006 | B8: 711200 | C8: Порези на добит и капиталне добитке које плаћају предузећа и друга правна лица
A9: 2007 | B9: 711300 | C9: Порези на доходак, добит и капиталне добитке који се не могу разврстати између физичких и правних лица
A10: 2008 | B10: 712000 | C10: ПОРЕЗ НА ФОНД ЗАРАДА (2009) | D10: =D11 -> 0 | E10: =E11 -> 0
A11: 2009 | B11: 712100 | C11: Порез на фонд зарада
A12: 2010 | B12: 713000 | C12: ПОРЕЗ НА ИМОВИНУ (од 2011 до 2016) | D12: =SUM(D13:D18) -> 0 | E12: =SUM(E13:E18) -> 0
A13: 2011 | B13: 713100 | C13: Периодични порези на непокретности
A14: 2012 | B14: 713200 | C14: Периодични порези на нето имовину
A15: 2013 | B15: 713300 | C15: Порези на заоставштину, наслеђе и поклон
A16: 2014 | B16: 713400 | C16: Порези на финансијске и капиталне трансакције
A17: 2015 | B17: 713500 | C17: Други једнократни порези на имовину
A18: 2016 | B18: 713600 | C18: Други периодични порези на имовину
A19: 2017 | B19: 714000 | C19: ПОРЕЗ НА ДОБРА И УСЛУГЕ (од 2018 до 2022) | D19: =SUM(D20:D24) -> 0 | E19: =SUM(E20:E24) -> 0
A20: 2018 | B20: 714100 | C20: Општи порези на добра и услуге
A21: 2019 | B21: 714300 | C21: Добит фискалних монопола
A22: 2020 | B22: 714400 | C22: Порези на појединачне услуге
A23: 2021 | B23: 714500 | C23: Порези, таксе и накнаде на употребу добара, на дозволу да се добра употребљавају или делатности обављају
A24: 2022 | B24: 714600 | C24: Други порези на добра и услуге
A25: 2023 | B25: 715000 | C25: ПОРЕЗ НА МЕЂУНАРОДНУ ТРГОВИНУ И ТРАНСАКЦИЈЕ (од 2024 до 2029) | D25: =SUM(D26:D31) -> 0 | E25: =SUM(E26:E31) -> 0
A26: 2024 | B26: 715100 | C26: Царине и друге увозне дажбине
A27: 2025 | B27: 715200 | C27: Порези на извоз
A28: 2026 | B28: 715300 | C28: Добит извозних или увозних монопола
A29: 2027 | B29: 715400 | C29: Добит по основу разлике између куповног и продајног девизног курса
A30: 2028 | B30: 715500 | C30: Порези на продају или куповину девиза
A31: 2029 | B31: 715600 | C31: Други порези на међународну трговину и трансакције
A32: 2030 | B32: 716000 | C32: ДРУГИ ПОРЕЗИ (2031 + 2032) | D32: =D33+D34 -> 0 | E32: =E33+E34 -> 0
A33: 2031 | B33: 716100 | C33: Други порези које искључиво плаћају предузећа, односно предузетници
A34: 2032 | B34: 716200 | C34: Други порези које плаћају остала лица или који се не могу идентификовати
A35: 2033 | B35: 717000 | C35: АКЦИЗЕ (од 2034 до 2039) | D35: =SUM(D36:D41) -> 0 | E35: =SUM(E36:E41) -> 0
A36: 2034 | B36: 717100 | C36: Акцизе на деривате нафте
A37: 2035 | B37: 717200 | C37: Акцизе на дуванске прерађевине
A38: 2036 | B38: 717300 | C38: Акцизе на алкохолна пића
A39: 2037 | B39: 717400 | C39: Акцизе на освежавајућа безалкохолна пића
A40: 2038 | B40: 717500 | C40: Акциза на кафу
...

Sheet StObr2
AL1: Образац 2
A2: ПОПУЊАВА УПРАВА ЗА ТРЕЗОР - ФИЛИЈАЛА
A3: 7 | B3: 5 | C3: 2 | E3: 0 | F3: =IF(LEN(Podaci!M2) > 4, MID(RIGHT(Podaci!$M$2,5),1,1),0) -> 0 | G3: =IF(LEN(Podaci!M2) > 3, MID(RIGHT(Podaci!$M$2,4),1,1),0) -> 0 | H3: =IF(LEN(Podaci!M2) > 2, MID(RIGHT(Podaci!$M$2,3),1,1),0) -> 9 | I3: =MID(RIGHT(Podaci!$M$2,2),1,1) -> 3 | J3: =MID(RIGHT(Podaci!$M$2,1),1,1) -> 8 | L3: =IF(LEN(Podaci!Z7) > 7, MID(RIGHT(Podaci!$Z$7,8),1,1),0) -> 0 | M3: =IF(LEN(Podaci!Z7) > 6, MID(RIGHT(Podaci!$Z$7,7),1,1),0) -> 7 | N3: =MID(RIGHT(Podaci!$Z$7,6),1,1) -> 3 | O3: =MID(RIGHT(Podaci!$Z$7,5),1,1) -> 4 | P3: =MID(RIGHT(Podaci!$Z$7,4),1,1) -> 8 | Q3: =MID(RIGHT(Podaci!$Z$7,3),1,1) -> 1 | R3: =MID(RIGHT(Podaci!$Z$7,2),1,1) -> 6 | S3: =MID(RIGHT(Podaci!$Z$7,1),1,1) -> 9
A4: 1 | B4: 2 | C4: 3 | E4: 4 | F4: 5 | G4: 6 | H4: 7 | I4: 8 | J4: 9 | L4: 10 | M4: 11 | N4: 12 | O4: 13 | P4: 14 | Q4: 15 | R4: 16 | S4: 17 | U4: 18 | V4: 19 | W4: 20 | X4: 21 | Y4: 22 | AA4: 23 | AB4: 24 | AC4: 25 | AD4: 26 | AE4: 27 | AG4: 28 | AI4: 29 | AJ4: 30 | AK4: 31 | AL4: 32 | AM4: 33 | AN4: 34 | AO4: 35 | AP4: 36 | AQ4: 37 | AR4: 38
A5: Врста посла | E5: Јединствени број КБС | U5: Седиште УТ | AA5: Надлежни директни КБС
B8: НАЗИВ КОРИСНИКА БУЏЕТСКИХ СРЕДСТАВА
B9: =Podaci!B5 -> О.Ш.ВУК КАРАЏИЋ
B11: СЕДИШТЕ | H11: =Podaci!H7 -> СМ.ПАЛАНКА | R11: МАТИЧНИ БРОЈ | Z11: =Podaci!Z7 -> 07348169
B13: ПИБ | E13: =Podaci!E9 -> 101619041 | R13: БРОЈ ПОДРАЧУНА | Z13: =Podaci!AA9 -> 840-834660-09
B15: НАЗИВ НАДЛЕЖНОГ ДИРЕКТНОГ КОРИСНИКА БУЏЕТСКИХ СРЕДСТАВА
B17: =Podaci!B12 -> МИНИСТАРСТВО ПРОСВЕТЕ ,НАУКЕ И ТЕХНОЛОШКОГ РАЗВОЈА
B18: (Попуњава само индиректни корисник буџетских средстава)
M21: БИЛАНС ПРИХОДА И РАСХОДА
L22: у периоду од | R22: =Podaci!D17 -> 01.01.2021 | X22: до | Y22: =Podaci!D18 -> 31.12.2021 | AD22: године
AK23: (У хиљадама динара)
A24: Ознака ОП | D24: Број конта | H24: Опис | AA24: Износ
AA26: Претходна година | AJ26: Текућа година
A28: 1 | D28: 2 | H28: 3 | AA28: 4 | AJ28: 5
A29: 2001 | H29: ТЕКУЋИ ПРИХОДИ И ПРИМАЊА ОД ПРОДАЈЕ НЕФИНАНСИЈСКЕ ИМОВИНЕ (2002 + 2106) | AA29: =UnObr2!D3 -> 0 | AJ29: =UnObr2!E3 -> 56730
A30: 2002 | D30: 700000 | H30: ТЕКУЋИ ПРИХОДИ (2003 + 2047 + 2057 + 2069 + 2094 + 2099 + 2103) | AA30: =UnObr2!D4 -> 0 | AJ30: =UnObr2!E4 -> 56730
A31: 2003 | D31: 710000 | H31: ПОРЕЗИ (2004 + 2008 + 2010 + 2017 + 2023 + 2030 + 2033 + 2040) | AA31: =UnObr2!D5 -> 0 | AJ31: =UnObr2!E5 -> 0
A32: 2004 | D32: 711000 | H32: ПОРЕЗ НА ДОХОДАК, ДОБИТ И КАПИТАЛНЕ ДОБИТКЕ (од 2005 до 2007) | AA32: =UnObr2!D6 -> 0 | AJ32: =UnObr2!E6 -> 0
A33: 2005 | D33: 711100 | H33: Порези на доходак и капиталне добитке које плаћају физичка лица | AA33: =UnObr2!D7 -> 0 | AJ33: =UnObr2!E7 -> 0
A34: 2006 | D34: 711200 | H34: Порези на добит и капиталне добитке које плаћају предузећа и друга правна лица | AA34: =UnObr2!D8 -> 0 | AJ34: =UnObr2!E8 -> 0
A35: 2007 | D35: 711300 | H35: Порези на доходак, добит и капиталне добитке који се не могу разврстати између физичких и правних лица | AA35: =UnObr2!D9 -> 0 | AJ35: =UnObr2!E9 -> 0
A36: 2008 | D36: 712000 | H36: ПОРЕЗ НА ФОНД ЗАРАДА (2009) | AA36: =UnObr2!D10 -> 0 | AJ36: =UnObr2!E10 -> 0
A37: 2009 | D37: 712100 | H37: Порез на фонд зарада | AA37: =UnObr2!D11 -> 0 | AJ37: =UnObr2!E11 -> 0
A38: 2010 | D38: 713000 | H38: ПОРЕЗ НА ИМОВИНУ (од 2011 до 2016) | AA38: =UnObr2!D12 -> 0 | AJ38: =UnObr2!E12 -> 0
A39: 2011 | D39: 713100 | H39: Периодични порези на непокретности | AA39: =UnObr2!D13 -> 0 | AJ39: =UnObr2!E13 -> 0
A40: 2012 | D40: 713200 | H40: Периодични порези на нето имовину | AA40: =UnObr2!D14 -> 0 | AJ40: =UnObr2!E14 -> 0
A41: 2013 | D41: 713300 | H41: Порези на заоставштину, наслеђе и поклон | AA41: =UnObr2!D15 -> 0 | AJ41: =UnObr2!E15 -> 0
... A158: 2130 | D158: 843100 | H158: Примања од продаје шума и вода | AA158: =UnObr2!D132 -> 0 | AJ158: =UnObr2!E132 -> 0
A159: 2131 | H159: ТЕКУЋИ РАСХОДИ И ИЗДАЦИ ЗА НЕФИНАНСИЈСКУ ИМОВИНУ (2132 + 2300) | AA159: =UnObr2!D133 -> 0 | AJ159: =UnObr2!E133 -> 56730
A160: 2132 | D160: 400000 | H160: ТЕКУЋИ РАСХОДИ (2133 + 2155 + 2200 + 2215 + 2239 + 2252 + 2268 + 2283) | AA160: =UnObr2!D134 -> 0 | AJ160: =UnObr2!E134 -> 56544
A161: 2133 | D161: 410000 | H161: РАСХОДИ ЗА ЗАПОСЛЕНЕ (2134 + 2136 + 2140 + 2142 + 2147 + 2149 + 2151 + 2153) | AA161: =UnObr2!D135 -> 0 | AJ161: =UnObr2!E135 -> 45946
A162: 2134 | D162: 411000 | H162: ПЛАТЕ, ДОДАЦИ И НАКНАДЕ ЗАПОСЛЕНИХ (ЗАРАДЕ) (2135) | AA162: =UnObr2!D136 -> 0 | AJ162: =UnObr2!E136 -> 37769
A163: 2135 | D163: 411100 | H163: Плате, додаци и накнаде запослених | AA163: =UnObr2!D137 -> 0 | AJ163: =UnObr2!E137 -> 37769
A164: 2136 | D164: 412000 | H164: СОЦИЈАЛНИ ДОПРИНОСИ НА ТЕРЕТ ПОСЛОДАВЦА (од 2137 до 2139) | AA164: =UnObr2!D138 -> 0 | AJ164: =UnObr2!E138 -> 6516
A165: 2137 | D165: 412100 | H165: Допринос за пензијско и инвалидско осигурање | AA165: =UnObr2!D139 -> 0 | AJ165: =UnObr2!E139 -> 4643
A166: 2138 | D166: 412200 | H166: Допринос за здравствено осигурање | AA166: =UnObr2!D140 -> 0 | AJ166: =UnObr2!E140 -> 1873
...

Sheet UnObr3
A1: Ознака ОП | B1: Конто | C1: Опис | D1: Износ | G1: Штампа
D2: Претходна година | E2: Текућа година
A3: 3001 | C3: ПРИМАЊА (3002 + 3027) | D3: =D4+D29 -> 0 | E3: =E4+E29 -> 0
A4: 3002 | B4: 800000 | C4: ПРИМАЊА ОД ПРОДАЈЕ НЕФИНАНСИЈСКЕ ИМОВИНЕ (3003 + 3010 + 3017 + 3020) | D4: =D5+D12+D19+D22 -> 0 | E4: =E5+E12+E19+E22 -> 0
A5: 3003 | B5: 810000 | C5: ПРИМАЊА ОД ПРОДАЈЕ ОСНОВНИХ СРЕДСТАВА (3004 + 3006 + 3008) | D5: =D6+D8+D10 -> 0 | E5: =E6+E8+E10 -> 0
A6: 3004 | B6: 811000 | C6: ПРИМАЊА ОД ПРОДАЈЕ НЕПОКРЕТНОСТИ (3005) | D6: =D7 -> 0 | E6: =E7 -> 0
A7: 3005 | B7: 811100 | C7: Примања од продаје непокретности
A8: 3006 | B8: 812000 | C8: ПРИМАЊА ОД ПРОДАЈЕ ПОКРЕТНЕ ИМОВИНЕ (3007) | D8: =D9 -> 0 | E8: =E9 -> 0
A9: 3007 | B9: 812100 | C9: Примања од продаје покретне имовине
A10: 3008 | B10: 813000 | C10: ПРИМАЊА ОД ПРОДАЈЕ ОСТАЛИХ ОСНОВНИХ СРЕДСТАВА (3009) | D10: =D11 -> 0 | E10: =E11 -> 0
A11: 3009 | B11: 813100 | C11: Примања од продаје осталих основних средстава
A12: 3010 | B12: 820000 | C12: ПРИМАЊА ОД ПРОДАЈЕ ЗАЛИХА (3011 + 3013 + 3015) | D12: =D13+D15+D17 -> 0 | E12: =E13+E15+E17 -> 0
A13: 3011 | B13: 821000 | C13: ПРИМАЊА ОД ПРОДАЈЕ РОБНИХ РЕЗЕРВИ (3012) | D13: =D14 -> 0 | E13: =E14 -> 0
A14: 3012 | B14: 821100 | C14: Примања од продаје робних резерви
A15: 3013 | B15: 822000 | C15: ПРИМАЊА ОД ПРОДАЈЕ ЗАЛИХА ПРОИЗВОДЊЕ (3014) | D15: =D16 -> 0 | E15: =E16 -> 0
A16: 3014 | B16: 822100 | C16: Примања од продаје залиха производње
A17: 3015 | B17: 823000 | C17: ПРИМАЊА ОД ПРОДАЈЕ РОБЕ ЗА ДАЉУ ПРОДАЈУ (3016) | D17: =D18 -> 0 | E17: =E18 -> 0
A18: 3016 | B18: 823100 | C18: Примања од продаје робе за даљу продају
A19: 3017 | B19: 830000 | C19: ПРИМАЊА ОД ПРОДАЈЕ ДРАГОЦЕНОСТИ (3018) | D19: =D20 -> 0 | E19: =E20 -> 0
A20: 3018 | B20: 831000 | C20: ПРИМАЊА ОД ПРОДАЈЕ ДРАГОЦЕНОСТИ (3019) | D20: =D21 -> 0 | E20: =E21 -> 0
A21: 3019 | B21: 831100 | C21: Примања од продаје драгоцености
A22: 3020 | B22: 840000 | C22: ПРИМАЊА ОД ПРОДАЈЕ ПРИРОДНЕ ИМОВИНЕ (3021 + 3023 + 3025) | D22: =D23+D25+D27 -> 0 | E22: =E23+E25+E27 -> 0
A23: 3021 | B23: 841000 | C23: ПРИМАЊА ОД ПРОДАЈЕ ЗЕМЉИШТА (3022) | D23: =D24 -> 0 | E23: =E24 -> 0
A24: 3022 | B24: 841100 | C24: Примања од продаје земљишта
A25: 3023 | B25: 842000 | C25: ПРИМАЊА ОД ПРОДАЈЕ ПОДЗЕМНИХ БЛАГА (3024) | D25: =D26 -> 0 | E25: =E26 -> 0
A26: 3024 | B26: 842100 | C26: Примања од продаје подземних блага
A27: 3025 | B27: 843000 | C27: ПРИМАЊА ОД ПРОДАЈЕ ШУМА И ВОДА (3026) | D27: =D28 -> 0 | E27: =E28 -> 0
A28: 3026 | B28: 843100 | C28: Примања од продаје шума и вода
A29: 3027 | B29: 900000 | C29: ПРИМАЊА ОД ЗАДУЖИВАЊА И ПРОДАЈЕ ФИНАНСИЈСКЕ ИМОВИНЕ (3028 + 3047) | D29: =D30+D49 -> 0 | E29: =E30+E49 -> 0
A30: 3028 | B30: 910000 | C30: ПРИМАЊА ОД ЗАДУЖИВАЊА (3029 + 3039) | D30: =D31+D41 -> 0 | E30: =E31+E41 -> 0
A31: 3029 | B31: 911000 | C31: ПРИМАЊА ОД ДОМАЋИХ ЗАДУЖИВАЊА (од 3030 до 3038) | D31: =SUM(D32:D40) -> 0 | E31: =SUM(E32:E40) -> 0
A32: 3030 | B32: 911100 | C32: Примања од емитовања домаћих хартија од вредности, изузев акција
A33: 3031 | B33: 911200 | C33: Примања од задуживања од осталих нивоа власти
A34: 3032 | B34: 911300 | C34: Примања од задуживања од јавних финансијских институција у земљи
A35: 3033 | B35: 911400 | C35: Примања од задуживања од пословних банака у земљи
A36: 3034 | B36: 911500 | C36: Примања од задуживања од осталих поверилаца у земљи
A37: 3035 | B37: 911600 | C37: Примања од задуживања од домаћинстава у земљи
A38: 3036 | B38: 911700 | C38: Примања од домаћих финансијских деривата
A39: 3037 | B39: 911800 | C39: Примања од домаћих меница
A40: 3038 | B40: 911900 | C40: Исправка унутрашњег дуга
...

Sheet StObr3
AL1: Образац 3
A2: ПОПУЊАВА УПРАВА ЗА ТРЕЗОР - ФИЛИЈАЛА
A3: 7 | B3: 5 | C3: 3 | E3: 0 | F3: =IF(LEN(Podaci!M2) > 4, MID(RIGHT(Podaci!$M$2,5),1,1),0) -> 0 | G3: =IF(LEN(Podaci!M2) > 3, MID(RIGHT(Podaci!$M$2,4),1,1),0) -> 0 | H3: =IF(LEN(Podaci!M2) > 2, MID(RIGHT(Podaci!$M$2,3),1,1),0) -> 9 | I3: =MID(RIGHT(Podaci!$M$2,2),1,1) -> 3 | J3: =MID(RIGHT(Podaci!$M$2,1),1,1) -> 8 | L3: =IF(LEN(Podaci!Z7) > 7, MID(RIGHT(Podaci!$Z$7,8),1,1),0) -> 0 | M3: =IF(LEN(Podaci!Z7) > 6, MID(RIGHT(Podaci!$Z$7,7),1,1),0) -> 7 | N3: =MID(RIGHT(Podaci!$Z$7,6),1,1) -> 3 | O3: =MID(RIGHT(Podaci!$Z$7,5),1,1) -> 4 | P3: =MID(RIGHT(Podaci!$Z$7,4),1,1) -> 8 | Q3: =MID(RIGHT(Podaci!$Z$7,3),1,1) -> 1 | R3: =MID(RIGHT(Podaci!$Z$7,2),1,1) -> 6 | S3: =MID(RIGHT(Podaci!$Z$7,1),1,1) -> 9
A4: 1 | B4: 2 | C4: 3 | E4: 4 | F4: 5 | G4: 6 | H4: 7 | I4: 8 | J4: 9 | L4: 10 | M4: 11 | N4: 12 | O4: 13 | P4: 14 | Q4: 15 | R4: 16 | S4: 17 | U4: 18 | V4: 19 | W4: 20 | X4: 21 | Y4: 22 | AA4: 23 | AB4: 24 | AC4: 25 | AD4: 26 | AE4: 27 | AG4: 28 | AI4: 29 | AJ4: 30 | AK4: 31 | AL4: 32 | AM4: 33 | AN4: 34 | AO4: 35 | AP4: 36 | AQ4: 37 | AR4: 38
A5: Врста посла | E5: Јединствени број КБС | U5: Седиште УТ | AA5: Надлежни директни КБС
B8: НАЗИВ КОРИСНИКА БУЏЕТСКИХ СРЕДСТАВА
B9: =Podaci!B5 -> О.Ш.ВУК КАРАЏИЋ
B11: СЕДИШТЕ | H11: =Podaci!H7 -> СМ.ПАЛАНКА | R11: МАТИЧНИ БРОЈ | Z11: =Podaci!Z7 -> 07348169
B13: ПИБ | E13: =Podaci!E9 -> 101619041 | R13: БРОЈ ПОДРАЧУНА | Z13: =Podaci!AA9 -> 840-834660-09
B15: НАЗИВ НАДЛЕЖНОГ ДИРЕКТНОГ КОРИСНИКА БУЏЕТСКИХ СРЕДСТАВА
B16: =Podaci!B12 -> МИНИСТАРСТВО ПРОСВЕТЕ ,НАУКЕ И ТЕХНОЛОШКОГ РАЗВОЈА
B17: (Попуњава само индиректни корисник буџетских средстава)
F20: ИЗВЕШТАЈ О КАПИТАЛНИМ ИЗДАЦИМА И ПРИМАЊИМА
K21: у периоду од | Q21: =Podaci!D17 -> 01.01.2021 | V21: до | X21: =Podaci!D18 -> 31.12.2021 | AC21: године
AK22: (У хиљадама динара)
A23: Ознака ОП | D23: Број конта | H23: Опис | AA23: Износ
AA25: Претходна година | AJ25: Текућа година
A27: 1 | D27: 2 | H27: 3 | AA27: 4 | AJ27: 5
A28: 3001 | H28: ПРИМАЊА (3002 + 3027) | AA28: =UnObr3!D3 -> 0 | AJ28: =UnObr3!E3 -> 0
A29: 3002 | D29: 800000 | H29: ПРИМАЊА ОД ПРОДАЈЕ НЕФИНАНСИЈСКЕ ИМОВИНЕ (3003 + 3010 + 3017 + 3020) | AA29: =UnObr3!D4 -> 0 | AJ29: =UnObr3!E4 -> 0
A30: 3003 | D30: 810000 | H30: ПРИМАЊА ОД ПРОДАЈЕ ОСНОВНИХ СРЕДСТАВА (3004 + 3006 + 3008) | AA30: =UnObr3!D5 -> 0 | AJ30: =UnObr3!E5 -> 0
A31: 3004 | D31: 811000 | H31: ПРИМАЊА ОД ПРОДАЈЕ НЕПОКРЕТНОСТИ (3005) | AA31: =UnObr3!D6 -> 0 | AJ31: =UnObr3!E6 -> 0
A32: 3005 | D32: 811100 | H32: Примања од продаје непокретности | AA32: =UnObr3!D7 -> 0 | AJ32: =UnObr3!E7 -> 0
A33: 3006 | D33: 812000 | H33: ПРИМАЊА ОД ПРОДАЈЕ ПОКРЕТНЕ ИМОВИНЕ (3007) | AA33: =UnObr3!D8 -> 0 | AJ33: =UnObr3!E8 -> 0
A34: 3007 | D34: 812100 | H34: Примања од продаје покретне имовине | AA34: =UnObr3!D9 -> 0 | AJ34: =UnObr3!E9 -> 0
A35: 3008 | D35: 813000 | H35: ПРИМАЊА ОД ПРОДАЈЕ ОСТАЛИХ ОСНОВНИХ СРЕДСТАВА (3009) | AA35: =UnObr3!D10 -> 0 | AJ35: =UnObr3!E10 -> 0
A36: 3009 | D36: 813100 | H36: Примања од продаје осталих основних средстава | AA36: =UnObr3!D11 -> 0 | AJ36: =UnObr3!E11 -> 0
A37: 3010 | D37: 820000 | H37: ПРИМАЊА ОД ПРОДАЈЕ ЗАЛИХА (3011 + 3013 + 3015) | AA37: =UnObr3!D12 -> 0 | AJ37: =UnObr3!E12 -> 0
A38: 3011 | D38: 821000 | H38: ПРИМАЊА ОД ПРОДАЈЕ РОБНИХ РЕЗЕРВИ (3012) | AA38: =UnObr3!D13 -> 0 | AJ38: =UnObr3!E13 -> 0
A39: 3012 | D39: 821100 | H39: Примања од продаје робних резерви | AA39: =UnObr3!D14 -> 0 | AJ39: =UnObr3!E14 -> 0
A40: 3013 | D40: 822000 | H40: ПРИМАЊА ОД ПРОДАЈЕ ЗАЛИХА ПРОИЗВОДЊЕ (3014) | AA40: =UnObr3!D15 -> 0 | AJ40: =UnObr3!E15 -> 0
... A93: 3066 | D93: 922800 | H93: Примања од продаје стране валуте | AA93: =UnObr3!D68 -> 0 | AJ93: =UnObr3!E68 -> 0
A94: 3067 | H94: ИЗДАЦИ (3068 + 3114) | AA94: =UnObr3!D69 -> 0 | AJ94: =UnObr3!E69 -> 186
A95: 3068 | D95: 500000 | H95: ИЗДАЦИ ЗА НЕФИНАНСИЈСКУ ИМОВИНУ (3069 + 3091 + 3100 + 3103 + 3111) | AA95: =UnObr3!D70 -> 0 | AJ95: =UnObr3!E70 -> 186
A96: 3069 | D96: 510000 | H96: ОСНОВНА СРЕДСТВА (3070 + 3075 + 3085 + 3087 + 3089) | AA96: =UnObr3!D71 -> 0 | AJ96: =UnObr3!E71 -> 186
A97: 3070 | D97: 511000 | H97: ЗГРАДЕ И ГРАЂЕВИНСКИ ОБЈЕКТИ (од 3071 до 3074) | AA97: =UnObr3!D72 -> 0 | AJ97: =UnObr3!E72 -> 0
A98: 3071 | D98: 511100 | H98: Куповина зграда и објеката | AA98: =UnObr3!D73 -> 0 | AJ98: =UnObr3!E73 -> 0
A99: 3072 | D99: 511200 | H99: Изградња зграда и објеката | AA99: =UnObr3!D74 -> 0 | AJ99: =UnObr3!E74 -> 0
A100: 3073 | D100: 511300 | H100: Капитално одржавање зграда и објеката | AA100: =UnObr3!D75 -> 0 | AJ100: =UnObr3!E75 -> 0
A101: 3074 | D101: 511400 | H101: Пројектно планирање | AA101: =UnObr3!D76 -> 0 | AJ101: =UnObr3!E76 -> 0
...

Sheet UnObr4
A1: Ознака ОП | B1: Конто | C1: Опис | D1: Износ | G1: Штампа
D2: Претходна година | E2: Текућа година
A3: 4001 | C3: Н О В Ч А Н И П Р И Л И В И (4002 + 4106 + 4131) | D3: =D4+D108+D133 -> 0 | E3: =E4+E108+E133 -> 56730
A4: 4002 | B4: 700000 | C4: ТЕКУЋИ ПРИХОДИ (4003 + 4047 + 4057 + 4069 + 4094 + 4099 + 4103) | D4: =D5+D49+D59+D71+D96+D101+D105 -> 0 | E4: =E5+E49+E59+E71+E96+E101+E105 -> 56730
A5: 4003 | B5: 710000 | C5: ПОРЕЗИ (4004 + 4008 + 4010 + 4017 + 4023 + 4030 + 4033 + 4040) | D5: =D6+D10+D12+D19+D25+D32+D35+D42 -> 0 | E5: =E6+E10+E12+E19+E25+E32+E35+E42 -> 0
A6: 4004 | B6: 711000 | C6: ПОРЕЗ НА ДОХОДАК, ДОБИТ И КАПИТАЛНЕ ДОБИТКЕ (од 4005 до 4007) | D6: =SUM(D7:D9) -> 0 | E6: =SUM(E7:E9) -> 0
A7: 4005 | B7: 711100 | C7: Порези на доходак и капиталне добитке које плаћају физичка лица
A8: 4006 | B8: 711200 | C8: Порези на добит и капиталне добитке које плаћају предузећа и друга правна лица
A9: 4007 | B9: 711300 | C9: Порези на доходак, добит и капиталне добитке који се не могу разврстати између физичких и правних лица
A10: 4008 | B10: 712000 | C10: ПОРЕЗ НА ФОНД ЗАРАДА (4009) | D10: =D11 -> 0 | E10: =E11 -> 0
A11: 4009 | B11: 712100 | C11: Порез на фонд зарада
A12: 4010 | B12: 713000 | C12: ПОРЕЗ НА ИМОВИНУ (од 4011 до 4016) | D12: =SUM(D13:D18) -> 0 | E12: =SUM(E13:E18) -> 0
A13: 4011 | B13: 713100 | C13: Периодични порези на непокретности
A14: 4012 | B14: 713200 | C14: Периодични порези на нето имовину
A15: 4013 | B15: 713300 | C15: Порези на заоставштину, наслеђе и поклон
A16: 4014 | B16: 713400 | C16: Порези на финансијске и капиталне трансакције
A17: 4015 | B17: 713500 | C17: Други једнократни порези на имовину
A18: 4016 | B18: 713600 | C18: Други периодични порези на имовину
A19: 4017 | B19: 714000 | C19: ПОРЕЗ НА ДОБРА И УСЛУГЕ (од 4018 до 4022) | D19: =SUM(D20:D24) -> 0 | E19: =SUM(E20:E24) -> 0
A20: 4018 | B20: 714100 | C20: Општи порези на добра и услуге
A21: 4019 | B21: 714300 | C21: Добит фискалних монопола
A22: 4020 | B22: 714400 | C22: Порези на појединачне услуге
A23: 4021 | B23: 714500 | C23: Порези, таксе и накнаде на употребу добара, на дозволу да се добра употребљавају или делатности обављају
A24: 4022 | B24: 714600 | C24: Други порези на добра и услуге
A25: 4023 | B25: 715000 | C25: ПОРЕЗ НА МЕЂУНАРОДНУ ТРГОВИНУ И ТРАНСАКЦИЈЕ (од 4024 до 4029) | D25: =SUM(D26:D31) -> 0 | E25: =SUM(E26:E31) -> 0
A26: 4024 | B26: 715100 | C26: Царине и друге увозне дажбине
A27: 4025 | B27: 715200 | C27: Порези на извоз
A28: 4026 | B28: 715300 | C28: Добит извозних или увозних монопола
A29: 4027 | B29: 715400 | C29: Добит по основу разлике између куповног и продајног девизног курса
A30: 4028 | B30: 715500 | C30: Порези на продају или куповину девиза
A31: 4029 | B31: 715600 | C31: Други порези на међународну трговину и трансакције
A32: 4030 | B32: 716000 | C32: ДРУГИ ПОРЕЗИ (4031 + 4032) | D32: =D33+D34 -> 0 | E32: =E33+E34 -> 0
A33: 4031 | B33: 716100 | C33: Други порези које искључиво плаћају предузећа, односно предузетници
A34: 4032 | B34: 716200 | C34: Други порези које плаћају остала лица или који се не могу идентификовати
A35: 4033 | B35: 717000 | C35: АКЦИЗЕ (од 4034 до 4039) | D35: =SUM(D36:D41) -> 0 | E35: =SUM(E36:E41) -> 0
A36: 4034 | B36: 717100 | C36: Акцизе на деривате нафте
A37: 4035 | B37: 717200 | C37: Акцизе на дуванске прерађевине
A38: 4036 | B38: 717300 | C38: Акцизе на алкохолна пића
A39: 4037 | B39: 717400 | C39: Акцизе на освежавајућа безалкохолна пића
A40: 4038 | B40: 717500 | C40: Акцизе на кафу
...

Sheet StObr4
AL1: Образац 4
A2: ПОПУЊАВА УПРАВА ЗА ТРЕЗОР - ФИЛИЈАЛА
A3: 7 | B3: 5 | C3: 4 | E3: 0 | F3: =IF(LEN(Podaci!M2) > 4, MID(RIGHT(Podaci!$M$2,5),1,1),0) -> 0 | G3: =IF(LEN(Podaci!M2) > 3, MID(RIGHT(Podaci!$M$2,4),1,1),0) -> 0 | H3: =IF(LEN(Podaci!M2) > 2, MID(RIGHT(Podaci!$M$2,3),1,1),0) -> 9 | I3: =MID(RIGHT(Podaci!$M$2,2),1,1) -> 3 | J3: =MID(RIGHT(Podaci!$M$2,1),1,1) -> 8 | L3: =IF(LEN(Podaci!Z7) > 7, MID(RIGHT(Podaci!$Z$7,8),1,1),0) -> 0 | M3: =IF(LEN(Podaci!Z7) > 6, MID(RIGHT(Podaci!$Z$7,7),1,1),0) -> 7 | N3: =MID(RIGHT(Podaci!$Z$7,6),1,1) -> 3 | O3: =MID(RIGHT(Podaci!$Z$7,5),1,1) -> 4 | P3: =MID(RIGHT(Podaci!$Z$7,4),1,1) -> 8 | Q3: =MID(RIGHT(Podaci!$Z$7,3),1,1) -> 1 | R3: =MID(RIGHT(Podaci!$Z$7,2),1,1) -> 6 | S3: =MID(RIGHT(Podaci!$Z$7,1),1,1) -> 9
A4: 1 | B4: 2 | C4: 3 | E4: 4 | F4: 5 | G4: 6 | H4: 7 | I4: 8 | J4: 9 | L4: 10 | M4: 11 | N4: 12 | O4: 13 | P4: 14 | Q4: 15 | R4: 16 | S4: 17 | U4: 18 | V4: 19 | W4: 20 | X4: 21 | Y4: 22 | AA4: 23 | AB4: 24 | AC4: 25 | AD4: 26 | AE4: 27 | AG4: 28 | AI4: 29 | AJ4: 30 | AK4: 31 | AL4: 32 | AM4: 33 | AN4: 34 | AO4: 35 | AP4: 36 | AQ4: 37 | AR4: 38
A5: Врста посла | E5: Јединствени број КБС | U5: Седиште УТ | AA5: Надлежни директни КБС
B8: НАЗИВ КОРИСНИКА БУЏЕТСКИХ СРЕДСТАВА
B9: =Podaci!B5 -> О.Ш.ВУК КАРАЏИЋ
B11: СЕДИШТЕ | H11: =Podaci!H7 -> СМ.ПАЛАНКА | R11: МАТИЧНИ БРОЈ | Z11: =Podaci!Z7 -> 07348169
B13: ПИБ | E13: =Podaci!E9 -> 101619041 | R13: БРОЈ ПОДРАЧУНА | Z13: =Podaci!AA9 -> 840-834660-09
B15: НАЗИВ НАДЛЕЖНОГ ДИРЕКТНОГ КОРИСНИКА БУЏЕТСКИХ СРЕДСТАВА
B16: =Podaci!B12 -> МИНИСТАРСТВО ПРОСВЕТЕ ,НАУКЕ И ТЕХНОЛОШКОГ РАЗВОЈА
B17: (Попуњава само индиректни корисник буџетских средстава)
J20: ИЗВЕШТАЈ О НОВЧАНИМ ТОКОВИМА
L21: у периоду од | R21: =Podaci!D17 -> 01.01.2021 | W21: до | Y21: =Podaci!D18 -> 31.12.2021 | AD21: године
AK22: (У хиљадама динара)
A23: Ознака ОП | D23: Број конта | H23: Опис | AA23: Износ
AA25: Претходна година | AJ25: Текућа година
A27: 1 | D27: 2 | H27: 3 | AA27: 4 | AJ27: 5
A28: 4001 | H28: Н О В Ч А Н И П Р И Л И В И (4002 + 4106 + 4131) | AA28: =UnObr4!D3 -> 0 | AJ28: =UnObr4!E3 -> 56730
A29: 4002 | D29: 700000 | H29: ТЕКУЋИ ПРИХОДИ (4003 + 4047 + 4057 + 4069 + 4094 + 4099 + 4103) | AA29: =UnObr4!D4 -> 0 | AJ29: =UnObr4!E4 -> 56730
A30: 4003 | D30: 710000 | H30: ПОРЕЗИ (4004 + 4008 + 4010 + 4017 + 4023 + 4030 + 4033 + 4040) | AA30: =UnObr4!D5 -> 0 | AJ30: =UnObr4!E5 -> 0
A31: 4004 | D31: 711000 | H31: ПОРЕЗ НА ДОХОДАК, ДОБИТ И КАПИТАЛНЕ ДОБИТКЕ (од 4005 до 4007) | AA31: =UnObr4!D6 -> 0 | AJ31: =UnObr4!E6 -> 0
A32: 4005 | D32: 711100 | H32: Порези на доходак и капиталне добитке које плаћају физичка лица | AA32: =UnObr4!D7 -> 0 | AJ32: =UnObr4!E7 -> 0
A33: 4006 | D33: 711200 | H33: Порези на добит и капиталне добитке које плаћају предузећа и друга правна лица | AA33: =UnObr4!D8 -> 0 | AJ33: =UnObr4!E8 -> 0
A34: 4007 | D34: 711300 | H34: Порези на доходак, добит и капиталне добитке који се не могу разврстати између физичких и правних лица | AA34: =UnObr4!D9 -> 0 | AJ34: =UnObr4!E9 -> 0
A35: 4008 | D35: 712000 | H35: ПОРЕЗ НА ФОНД ЗАРАДА (4009) | AA35: =UnObr4!D10 -> 0 | AJ35: =UnObr4!E10 -> 0
A36: 4009 | D36: 712100 | H36: Порез на фонд зарада | AA36: =UnObr4!D11 -> 0 | AJ36: =UnObr4!E11 -> 0
A37: 4010 | D37: 713000 | H37: ПОРЕЗ НА ИМОВИНУ (од 4011 до 4016) | AA37: =UnObr4!D12 -> 0 | AJ37: =UnObr4!E12 -> 0
A38: 4011 | D38: 713100 | H38: Периодични порези на непокретности | AA38: =UnObr4!D13 -> 0 | AJ38: =UnObr4!E13 -> 0
A39: 4012 | D39: 713200 | H39: Периодични порези на нето имовину | AA39: =UnObr4!D14 -> 0 | AJ39: =UnObr4!E14 -> 0
A40: 4013 | D40: 713300 | H40: Порези на заоставштину, наслеђе и поклон | AA40: =UnObr4!D15 -> 0 | AJ40: =UnObr4!E15 -> 0
... A197: 4170 | D197: 922800 | H197: Примања од продаје стране валуте | AA197: =UnObr4!D172 -> 0 | AJ197: =UnObr4!E172 -> 0
A198: 4171 | H198: НОВЧАНИ ОДЛИВИ (4172 + 4340 + 4386) | AA198: =UnObr4!D173 -> 0 | AJ198: =UnObr4!E173 -> 56730
A199: 4172 | D199: 400000 | H199: ТЕКУЋИ РАСХОДИ (4173 + 4195 + 4240 + 4255 + 4279 + 4292 + 4308 + 4323) | AA199: =UnObr4!D174 -> 0 | AJ199: =UnObr4!E174 -> 56544
A200: 4173 | D200: 410000 | H200: РАСХОДИ ЗА ЗАПОСЛЕНЕ (4174 + 4176 + 4180 + 4182 + 4187 + 4189 + 4191 + 4193) | AA200: =UnObr4!D175 -> 0 | AJ200: =UnObr4!E175 -> 45946
A201: 4174 | D201: 411000 | H201: ПЛАТЕ, ДОДАЦИ И НАКНАДЕ ЗАПОСЛЕНИХ (ЗАРАДЕ) (4175) | AA201: =UnObr4!D176 -> 0 | AJ201: =UnObr4!E176 -> 37769
A202: 4175 | D202: 411100 | H202: Плате, додаци и накнаде запослених | AA202: =UnObr4!D177 -> 0 | AJ202: =UnObr4!E177 -> 37769
A203: 4176 | D203: 412000 | H203: СОЦИЈАЛНИ ДОПРИНОСИ НА ТЕРЕТ ПОСЛОДАВЦА (од 4177 до 4179) | AA203: =UnObr4!D178 -> 0 | AJ203: =UnObr4!E178 -> 6516
A204: 4177 | D204: 412100 | H204: Допринос за пензијско и инвалидско осигурање | AA204: =UnObr4!D179 -> 0 | AJ204: =UnObr4!E179 -> 4643
A205: 4178 | D205: 412200 | H205: Допринос за здравствено осигурање | AA205: =UnObr4!D180 -> 0 | AJ205: =UnObr4!E180 -> 1873
...

Sheet UnObr1
A1: Ознака ОП | B1: Број конта | C1: Опис | D1: Износ из претходне године | E1: Износ текуће године | I1: Штампа
D2: (почетно стање) | E2: Бруто | F2: Исправка вредности | G2: Нето
G3: (5 – 6)
A4: 1 | B4: 2 | C4: 3 | D4: 4 | E4: 5 | F4: 6 | G4: 7
C5: АКТИВА
A6: 1001 | B6: 000000 | C6: НEФИНАНСИЈСКА ИМОВИНА (1002 + 1020) | D6: =D7+D25 -> 0 | E6: =E7+E25 -> 108136 | F6: =F7+F25 -> 35417 | G6: =E6-F6 -> 72719
A7: 1002 | B7: 010000 | C7: НЕФИНАНСИЈСКА ИМОВИНА У СТАЛНИМ СРЕДСТВИМА (1003 + 1007 + 1009 + 1011 + 1015 + 1018) | D7: =D8+D12+D14+D16+D20+D23 -> 0 | E7: =E8+E12+E14+E16+E20+E23 -> 108136 | F7: =F8+F12+F14+F16+F20+F23 -> 35417 | G7: =E7-F7 -> 72719
A8: 1003 | B8: 011000 | C8: НЕКРЕТНИНЕ И ОПРЕМА (од 1004 до 1006) | D8: =SUM(D9:D11) -> 0 | E8: =SUM(E9:E11) -> 101691 | F8: =SUM(F9:F11) -> 35417 | G8: =E8-F8 -> 66274
A9: 1004 | B9: 011100 | C9: Зграде и грађевински објекти | E9: 97535 | F9: 32171 | G9: =E9-F9 -> 65364
A10: 1005 | B10: 011200 | C10: Опрема | E10: 3884 | F10: 3246 | G10: =E10-F10 -> 638
A11: 1006 | B11: 011300 | C11: Остале некретнине и опрема | E11: 272 | G11: =E11-F11 -> 272
A12: 1007 | B12: 012000 | C12: КУЛТИВИСАНА ИМОВИНА (1008) | D12: =D13 -> 0 | E12: =E13 -> 0 | F12: =F13 -> 0 | G12: =E12-F12 -> 0
A13: 1008 | B13: 012100 | C13: Култивисана имовина | G13: =E13-F13 -> 0
A14: 1009 | B14: 013000 | C14: ДРАГОЦЕНОСТИ (1010) | D14: =D15 -> 0 | E14: =E15 -> 0 | F14: =F15 -> 0 | G14: =E14-F14 -> 0
A15: 1010 | B15: 013100 | C15: Драгоцености | G15: =E15-F15 -> 0
A16: 1011 | B16: 014000 | C16: ПРИРОДНА ИМОВИНА (од 1012 до 1014) | D16: =SUM(D17:D19) -> 0 | E16: =SUM(E17:E19) -> 6445 | F16: =SUM(F17:F19) -> 0 | G16: =E16-F16 -> 6445
A17: 1012 | B17: 014100 | C17: Земљиште | E17: 6445 | G17: =E17-F17 -> 6445
A18: 1013 | B18: 014200 | C18: Подземна блага | G18: =E18-F18 -> 0
A19: 1014 | B19: 014300 | C19: Шуме и воде | G19: =E19-F19 -> 0
A20: 1015 | B20: 015000 | C20: НЕФИНАНСИЈСКА ИМОВИНА У ПРИПРЕМИ И АВАНСИ (1016 + 1017) | D20: =D21+D22 -> 0 | E20: =E21+E22 -> 0 | F20: =F21+F22 -> 0 | G20: =E20-F20 -> 0
A21: 1016 | B21: 015100 | C21: Нефинансијска имовина у припреми | G21: =E21-F21 -> 0
A22: 1017 | B22: 015200 | C22: Аванси за нефинансијску имовину | G22: =E22-F22 -> 0
A23: 1018 | B23: 016000 | C23: НЕМАТЕРИЈАЛНА ИМОВИНА (1019) | D23: =D24 -> 0 | E23: =E24 -> 0 | F23: =F24 -> 0 | G23: =E23-F23 -> 0
A24: 1019 | B24: 016100 | C24: Нематеријална имовина | G24: =E24-F24 -> 0
A25: 1020 | B25: 020000 | C25: НЕФИНАНСИЈСКА ИМОВИНА У ЗАЛИХАМА (1021 + 1025) | D25: =D26+D30 -> 0 | E25: =E26+E30 -> 0 | F25: =F26+F30 -> 0 | G25: =E25-F25 -> 0
A26: 1021 | B26: 021000 | C26: ЗАЛИХЕ (од 1022 до 1024) | D26: =SUM(D27:D29) -> 0 | E26: =SUM(E27:E29) -> 0 | F26: =SUM(F27:F29) -> 0 | G26: =E26-F26 -> 0
A27: 1022 | B27: 021100 | C27: Робне резерве | G27: =E27-F27 -> 0
A28: 1023 | B28: 021200 | C28: Залихе производње | G28: =E28-F28 -> 0
A29: 1024 | B29: 021300 | C29: Роба за даљу продају | G29: =E29-F29 -> 0
A30: 1025 | B30: 022000 | C30: ЗАЛИХЕ СИТНОГ ИНВЕНТАРА И ПОТРОШНОГ МАТЕРИЈАЛА (1026 + 1027) | D30: =D31+D32 -> 0 | E30: =E31+E32 -> 0 | F30: =F31+F32 -> 0 | G30: =E30-F30 -> 0
A31: 1026 | B31: 022100 | C31: Залихе ситног инвентара | G31: =E31-F31 -> 0
A32: 1027 | B32: 022200 | C32: Залихе потрошног материјала | G32: =E32-F32 -> 0
A33: 1028 | B33: 100000 | C33: ФИНАНСИЈСКА ИМОВИНА (1029 + 1049 + 1067) | D33: =D34+D54+D72 -> 0 | E33: =E34+E54+E72 -> 7363 | F33: =F34+F54+F72 -> 0 | G33: =E33-F33 -> 7363
A34: 1029 | B34: 110000 | C34: ДУГОРОЧНА ФИНАНСИЈСКА ИМОВИНА (1030 + 1040) | D34: =D35+D45 -> 0 | E34: =E35+E45 -> 0 | F34: =F35+F45 -> 0 | G34: =E34-F34 -> 0
A35: 1030 | B35: 111000 | C35: ДУГОРОЧНА ДОМАЋА ФИНАНСИЈСКА ИМОВИНА (од 1031 до 1039) | D35: =SUM(D36:D44) -> 0 | E35: =SUM(E36:E44) -> 0 | F35: =SUM(F36:F44) -> 0 | G35: =E35-F35 -> 0
A36: 1031 | B36: 111100 | C36: Дугорочне домаће хартије од вредности, изузев акција | G36: =E36-F36 -> 0
A37: 1032 | B37: 111200 | C37: Кредити осталим нивоима власти | G37: =E37-F37 -> 0
A38: 1033 | B38: 111300 | C38: Кредити домаћим јавним финансијским институцијама | G38: =E38-F38 -> 0
A39: 1034 | B39: 111400 | C39: Кредити домаћим пословним банкама | G39: =E39-F39 -> 0
A40: 1035 | B40: 111500 | C40: Кредити домаћим јавним нефинансијским институцијама | G40: =E40-F40 -> 0
...

Sheet UnObr5
A1: Ознака ОП | B1: Број конта | C1: Опис | D1: Износ планираних прихода и примања | E1: Износ остварених прихода и примања
E2: Укупно (од 6 до 11) | F2: Приходи и примања из буџета | J2: Из донација и помоћи | K2: Из осталих извора
F3: Републике | G3: Аутономне покрајине | H3: Општине / града | I3: ООСО | M3: Штампа
A4: 1 | B4: 2 | C4: 3 | D4: 4 | E4: 5 | F4: 6 | G4: 7 | H4: 8 | I4: 9 | J4: 10 | K4: 11
A5: 5001 | C5: ТЕКУЋИ ПРИХОДИ И ПРИМАЊА ОД ПРОДАЈЕ НЕФИНАНСИЈСКЕ ИМОВИНЕ (5002 + 5106) | D5: =D6+D110 -> 0 | E5: =SUM(F5:K5) -> 56730 | F5: =F6+F110 -> 44285 | G5: =G6+G110 -> 0 | H5: =H6+H110 -> 11461 | I5: =I6+I110 -> 21 | J5: =J6+J110 -> 0 | K5: =K6+K110 -> 963
A6: 5002 | B6: 700000 | C6: ТЕКУЋИ ПРИХОДИ (5003 + 5047 + 5057 + 5069 + 5094 + 5099 + 5103) | D6: =D7+D51+D61+D73+D98+D103+D107 -> 0 | E6: =SUM(F6:K6) -> 56730 | F6: =F7+F51+F61+F73+F98+F103+F107 -> 44285 | G6: =G7+G51+G61+G73+G98+G103+G107 -> 0 | H6: =H7+H51+H61+H73+H98+H103+H107 -> 11461 | I6: =I7+I51+I61+I73+I98+I103+I107 -> 21 | J6: =J7+J51+J61+J73+J98+J103+J107 -> 0 | K6: =K7+K51+K61+K73+K98+K103+K107 -> 963
A7: 5003 | B7: 710000 | C7: ПОРЕЗИ (5004 + 5008 + 5010 + 5017 + 5023 + 5030 + 5033 + 5040) | D7: =D8+D12+D14+D21+D27+D34+D37+D44 -> 0 | E7: =SUM(F7:K7) -> 0 | F7: =F8+F12+F14+F21+F27+F34+F37+F44 -> 0 | G7: =G8+G12+G14+G21+G27+G34+G37+G44 -> 0 | H7: =H8+H12+H14+H21+H27+H34+H37+H44 -> 0 | I7: =I8+I12+I14+I21+I27+I34+I37+I44 -> 0 | J7: =J8+J12+J14+J21+J27+J34+J37+J44 -> 0 | K7: =K8+K12+K14+K21+K27+K34+K37+K44 -> 0
A8: 5004 | B8: 711000 | C8: ПОРЕЗ НА ДОХОДАК, ДОБИТ И КАПИТАЛНЕ ДОБИТКЕ (од 5005 до 5007) | D8: =SUM(D9:D11) -> 0 | E8: =SUM(F8:K8) -> 0 | F8: =SUM(F9:F11) -> 0 | G8: =SUM(G9:G11) -> 0 | H8: =SUM(H9:H11) -> 0 | I8: =SUM(I9:I11) -> 0 | J8: =SUM(J9:J11) -> 0 | K8: =SUM(K9:K11) -> 0
A9: 5005 | B9: 711100 | C9: Порези на доходак и капиталнe добиткe које плаћају физичка лица | E9: =SUM(F9:K9) -> 0
A10: 5006 | B10: 711200 | C10: Порези на добит и капиталне добитке које плаћају предузећа и друга правна лица | E10: =SUM(F10:K10) -> 0
A11: 5007 | B11: 711300 | C11: Порези на доходак, добит и капиталне добитке који се не могу разврстати између физичких и правних лица | E11: =SUM(F11:K11) -> 0
A12: 5008 | B12: 712000 | C12: ПОРЕЗ НА ФОНД ЗАРАДА (5009) | D12: =SUM(D13) -> 0 | E12: =SUM(F12:K12) -> 0 | F12: =SUM(F13) -> 0 | G12: =SUM(G13) -> 0 | H12: =SUM(H13) -> 0 | I12: =SUM(I13) -> 0 | J12: =SUM(J13) -> 0 | K12: =SUM(K13) -> 0
A13: 5009 | B13: 712100 | C13: Порез на фонд зарада | E13: =SUM(F13:K13) -> 0
A14: 5010 | B14: 713000 | C14: ПОРЕЗ НА ИМОВИНУ (од 5011 до 5016) | D14: =SUM(D15:D20) -> 0 | E14: =SUM(F14:K14) -> 0 | F14: =SUM(F15:F20) -> 0 | G14: =SUM(G15:G20) -> 0 | H14: =SUM(H15:H20) -> 0 | I14: =SUM(I15:I20) -> 0 | J14: =SUM(J15:J20) -> 0 | K14: =SUM(K15:K20) -> 0
A15: 5011 | B15: 713100 | C15: Периодични порези на непокретности | E15: =SUM(F15:K15) -> 0
A16: 5012 | B16: 713200 | C16: Периодични порези на нето имовину | E16: =SUM(F16:K16) -> 0
A17: 5013 | B17: 713300 | C17: Порези на заоставштину, наслеђе и поклон | E17: =SUM(F17:K17) -> 0
A18: 5014 | B18: 713400 | C18: Порези на финансијске и капиталне трансакције | E18: =SUM(F18:K18) -> 0
A19: 5015 | B19: 713500 | C19: Други једнократни порези на имовину | E19: =SUM(F19:K19) -> 0
A20: 5016 | B20: 713600 | C20: Други периодични порези на имовину | E20: =SUM(F20:K20) -> 0
A21: 5017 | B21: 714000 | C21: ПОРЕЗ НА ДОБРА И УСЛУГЕ (од 5018 до 5022) | D21: =SUM(D22:D26) -> 0 | E21: =SUM(F21:K21) -> 0 | F21: =SUM(F22:F26) -> 0 | G21: =SUM(G22:G26) -> 0 | H21: =SUM(H22:H26) -> 0 | I21: =SUM(I22:I26) -> 0 | J21: =SUM(J22:J26) -> 0 | K21: =SUM(K22:K26) -> 0
A22: 5018 | B22: 714100 | C22: Општи порези на добра и услуге | E22: =SUM(F22:K22) -> 0
A23: 5019 | B23: 714300 | C23: Добит фискалних монопола | E23: =SUM(F23:K23) -> 0
A24: 5020 | B24: 714400 | C24: Порези на појединачне услуге | E24: =SUM(F24:K24) -> 0
A25: 5021 | B25: 714500 | C25: Порези, таксе и накнаде на употребу добара, на дозволу да се добра употребљавају или делатности обављају | E25: =SUM(F25:K25) -> 0
A26: 5022 | B26: 714600 | C26: Други порези на добра и услуге | E26: =SUM(F26:K26) -> 0
A27: 5023 | B27: 715000 | C27: ПОРЕЗ НА МЕЂУНАРОДНУ ТРГОВИНУ И ТРАНСАКЦИЈЕ (од 5024 до 5029) | D27: =SUM(D28:D33) -> 0 | E27: =SUM(F27:K27) -> 0 | F27: =SUM(F28:F33) -> 0 | G27: =SUM(G28:G33) -> 0 | H27: =SUM(H28:H33) -> 0 | I27: =SUM(I28:I33) -> 0 | J27: =SUM(J28:J33) -> 0 | K27: =SUM(K28:K33) -> 0
A28: 5024 | B28: 715100 | C28: Царине и друге увозне дажбине | E28: =SUM(F28:K28) -> 0
A29: 5025 | B29: 715200 | C29: Порези на извоз | E29: =SUM(F29:K29) -> 0
A30: 5026 | B30: 715300 | C30: Добит извозних или увозних монопола | E30: =SUM(F30:K30) -> 0
A31: 5027 | B31: 715400 | C31: Добит по основу разлике између куповног и продајног девизног курса | E31: =SUM(F31:K31) -> 0
A32: 5028 | B32: 715500 | C32: Порези на продају или куповину девиза | E32: =SUM(F32:K32) -> 0
A33: 5029 | B33: 715600 | C33: Други порези на међународну трговину и трансакције | E33: =SUM(F33:K33) -> 0
A34: 5030 | B34: 716000 | C34: ДРУГИ ПОРЕЗИ (5031 + 5032) | D34: =SUM(D35:D36) -> 0 | E34: =SUM(F34:K34) -> 0 | F34: =SUM(F35:F36) -> 0 | G34: =SUM(G35:G36) -> 0 | H34: =SUM(H35:H36) -> 0 | I34: =SUM(I35:I36) -> 0 | J34: =SUM(J35:J36) -> 0 | K34: =SUM(K35:K36) -> 0
A35: 5031 | B35: 716100 | C35: Други порези које искључиво плаћају предузећа, односно предузетници | E35: =SUM(F35:K35) -> 0
A36: 5032 | B36: 716200 | C36: Други порези које плаћају остала лица или који се не могу идентификовати | E36: =SUM(F36:K36) -> 0
A37: 5033 | B37: 717000 | C37: АКЦИЗЕ (од 5034 до 5039) | D37: =SUM(D38:D43) -> 0 | E37: =SUM(F37:K37) -> 0 | F37: =SUM(F38:F43) -> 0 | G37: =SUM(G38:G43) -> 0 | H37: =SUM(H38:H43) -> 0 | I37: =SUM(I38:I43) -> 0 | J37: =SUM(J38:J43) -> 0 | K37: =SUM(K38:K43) -> 0
A38: 5034 | B38: 717100 | C38: Акцизе на деривате нафте | E38: =SUM(F38:K38) -> 0
A39: 5035 | B39: 717200 | C39: Акцизе на дуванске прерађевине | E39: =SUM(F39:K39) -> 0
A40: 5036 | B40: 717300 | C40: Акцизе на алкохолна пића | E40: =SUM(F40:K40) -> 0
...

Sheet StObr5
BG1: Образац 5
A2: ПОПУЊАВА УПРАВА ЗА ТРЕЗОР - ФИЛИЈАЛА
A3: 7 | B3: 5 | C3: 5 | F3: =IF(LEN(Podaci!M2) > 4, MID(RIGHT(Podaci!$M$2,5),1,1),0) -> 0 | G3: =IF(LEN(Podaci!M2) > 3, MID(RIGHT(Podaci!$M$2,4),1,1),0) -> 0 | H3: =IF(LEN(Podaci!M2) > 2, MID(RIGHT(Podaci!$M$2,3),1,1),0) -> 9 | I3: =MID(RIGHT(Podaci!$M$2,2),1,1) -> 3 | J3: =MID(RIGHT(Podaci!$M$2,1),1,1) -> 8 | L3: =IF(LEN(Podaci!Z7) > 7, MID(RIGHT(Podaci!$Z$7,8),1,1),0) -> 0 | M3: =IF(LEN(Podaci!Z7) > 6, MID(RIGHT(Podaci!$Z$7,7),1,1),0) -> 7 | N3: =MID(RIGHT(Podaci!$Z$7,6),1,1) -> 3 | O3: =MID(RIGHT(Podaci!$Z$7,5),1,1) -> 4 | P3: =MID(RIGHT(Podaci!$Z$7,4),1,1) -> 8 | Q3: =MID(RIGHT(Podaci!$Z$7,3),1,1) -> 1 | R3: =MID(RIGHT(Podaci!$Z$7,2),1,1) -> 6 | S3: =MID(RIGHT(Podaci!$Z$7,1),1,1) -> 9
A4: 1 | B4: 2 | C4: 3 | E4: 4 | F4: 5 | G4: 6 | H4: 7 | I4: 8 | J4: 9 | L4: 10 | M4: 11 | N4: 12 | O4: 13 | P4: 14 | Q4: 15 | R4: 16 | S4: 17 | U4: 18 | V4: 19 | W4: 20 | X4: 21 | Y4: 22 | AA4: 23 | AB4: 24 | AC4: 25 | AD4: 26 | AE4: 27 | AG4: 28 | AI4: 29 | AJ4: 30 | AK4: 31 | AL4: 32 | AM4: 33 | AN4: 34 | AO4: 35 | AP4: 36 | AQ4: 37 | AR4: 38
A5: Врста посла | E5: Јединствени број КБС | U5: Седиште УТ | AA5: Надлежни директни КБС
B8: НАЗИВ КОРИСНИКА БУЏЕТСКИХ СРЕДСТАВА
B9: =Podaci!B5 -> О.Ш.ВУК КАРАЏИЋ
B11: СЕДИШТЕ | H11: =Podaci!H7 -> СМ.ПАЛАНКА | R11: МАТИЧНИ БРОЈ | Z11: =Podaci!Z7 -> 07348169
B13: ПИБ | E13: =Podaci!E9 -> 101619041 | R13: БРОЈ ПОДРАЧУНА | Z13: =Podaci!AA9 -> 840-834660-09
B15: НАЗИВ НАДЛЕЖНОГ ДИРЕКТНОГ КОРИСНИКА БУЏЕТСКИХ СРЕДСТАВА
B16: =Podaci!B12 -> МИНИСТАРСТВО ПРОСВЕТЕ ,НАУКЕ И ТЕХНОЛОШКОГ РАЗВОЈА
B17: (Попуњава само индиректни корисник буџетских средстава)
J20: ИЗВЕШТАЈ О ИЗВРШЕЊУ БУЏЕТА
M21: у периоду од | S21: =Podaci!D17 -> 01.01.2021 | X21: до | Y21: =Podaci!D18 -> 31.12.2021 | AC21: године
A23: I. УКУПНИ ПРИХОДИ И ПРИМАЊА
BL24: (У хиљадама динара)
A25: Ознака ОП | D25: Број конта | H25: Опис | Y25: Износ планираних прихода и примања | AD25: Износ остварених прихода и примања
AD26: Укупно (од 6 до 11) | AJ26: Приходи и примања из буџета | BC26: Из донација и помоћи | BH26: Из осталих извора
AJ27: Републике | AO27: Аутономне покрајине | AT27: Општине / града | AY27: ООСО
A29: 1 | D29: 2 | H29: 3 | Y29: 4 | AD29: 5 | AJ29: 6 | AO29: 7 | AT29: 8 | AY29: 9 | BC29: 10 | BH29: 11
A30: 5001 | H30: ТЕКУЋИ ПРИХОДИ И ПРИМАЊА ОД ПРОДАЈЕ НЕФИНАНСИЈСКЕ ИМОВИНЕ (5002 + 5106) | Y30: =UnObr5!D5 -> 0 | AD30: =UnObr5!E5 -> 56730 | AJ30: =UnObr5!F5 -> 44285 | AO30: =UnObr5!G5 -> 0 | AT30: =UnObr5!H5 -> 11461 | AY30: =UnObr5!I5 -> 21 | BC30: =UnObr5!J5 -> 0 | BH30: =UnObr5!K5 -> 963
A31: 5002 | D31: 700000 | H31: ТЕКУЋИ ПРИХОДИ (5003 + 5047 + 5057 + 5069 + 5094 + 5099 + 5103) | Y31: =UnObr5!D6 -> 0 | AD31: =UnObr5!E6 -> 56730 | AJ31: =UnObr5!F6 -> 44285 | AO31: =UnObr5!G6 -> 0 | AT31: =UnObr5!H6 -> 11461 | AY31: =UnObr5!I6 -> 21 | BC31: =UnObr5!J6 -> 0 | BH31: =UnObr5!K6 -> 963
A32: 5003 | D32: 710000 | H32: ПОРЕЗИ (5004 + 5008 + 5010 + 5017 + 5023 + 5030 + 5033 + 5040) | Y32: =UnObr5!D7 -> 0 | AD32: =UnObr5!E7 -> 0 | AJ32: =UnObr5!F7 -> 0 | AO32: =UnObr5!G7 -> 0 | AT32: =UnObr5!H7 -> 0 | AY32: =UnObr5!I7 -> 0 | BC32: =UnObr5!J7 -> 0 | BH32: =UnObr5!K7 -> 0
A33: 5004 | D33: 711000 | H33: ПОРЕЗ НА ДОХОДАК, ДОБИТ И КАПИТАЛНЕ ДОБИТКЕ (од 5005 до 5007) | Y33: =UnObr5!D8 -> 0 | AD33: =UnObr5!E8 -> 0 | AJ33: =UnObr5!F8 -> 0 | AO33: =UnObr5!G8 -> 0 | AT33: =UnObr5!H8 -> 0 | AY33: =UnObr5!I8 -> 0 | BC33: =UnObr5!J8 -> 0 | BH33: =UnObr5!K8 -> 0
A34: 5005 | D34: 711100 | H34: Порези на доходак и капиталнe добиткe које плаћају физичка лица | Y34: =UnObr5!D9 -> 0 | AD34: =UnObr5!E9 -> 0 | AJ34: =UnObr5!F9 -> 0 | AO34: =UnObr5!G9 -> 0 | AT34: =UnObr5!H9 -> 0 | AY34: =UnObr5!I9 -> 0 | BC34: =UnObr5!J9 -> 0 | BH34: =UnObr5!K9 -> 0
A35: Ознака ОП | D35: Број конта | H35: Опис | Y35: Износ планираних прихода и примања | AD35: Износ остварених прихода и примања
AD36: Укупно (од 6 до 11) | AJ36: Приходи и примања из буџета | BC36: Из донација и помоћи | BH36: Из осталих извора
AJ37: Републике | AO37: Аутономне покрајине | AT37: Општине / града | AY37: ООСО
A39: 1 | D39: 2 | H39: 3 | Y39: 4 | AD39: 5 | AJ39: 6 | AO39: 7 | AT39: 8 | AY39: 9 | BC39: 10 | BH39: 11
A40: 5006 | D40: 711200 | H40: Порези на добит и капиталне добитке које плаћају предузећа и друга правна лица | Y40: =UnObr5!D10 -> 0 | AD40: =UnObr5!E10 -> 0 | AJ40: =UnObr5!F10 -> 0 | AO40: =UnObr5!G10 -> 0 | AT40: =UnObr5!H10 -> 0 | AY40: =UnObr5!I10 -> 0 | BC40: =UnObr5!J10 -> 0 | BH40: =UnObr5!K10 -> 0
A41: 5007 | D41: 711300 | H41: Порези на доходак, добит и капиталне добитке који се не могу разврстати између физичких и правних лица | Y41: =UnObr5!D11 -> 0 | AD41: =UnObr5!E11 -> 0 | AJ41: =UnObr5!F11 -> 0 | AO41: =UnObr5!G11 -> 0 | AT41: =UnObr5!H11 -> 0 | AY41: =UnObr5!I11 -> 0 | BC41: =UnObr5!J11 -> 0 | BH41: =UnObr5!K11 -> 0
A42: 5008 | D42: 712000 | H42: ПОРЕЗ НА ФОНД ЗАРАДА (5009) | Y42: =UnObr5!D12 -> 0 | AD42: =UnObr5!E12 -> 0 | AJ42: =UnObr5!F12 -> 0 | AO42: =UnObr5!G12 -> 0 | AT42: =UnObr5!H12 -> 0 | AY42: =UnObr5!I12 -> 0 | BC42: =UnObr5!J12 -> 0 | BH42: =UnObr5!K12 -> 0
A43: 5009 | D43: 712100 | H43: Порез на фонд зарада | Y43: =UnObr5!D13 -> 0 | AD43: =UnObr5!E13 -> 0 | AJ43: =UnObr5!F13 -> 0 | AO43: =UnObr5!G13 -> 0 | AT43: =UnObr5!H13 -> 0 | AY43: =UnObr5!I13 -> 0 | BC43: =UnObr5!J13 -> 0 | BH43: =UnObr5!K13 -> 0
A44: 5010 | D44: 713000 | H44: ПОРЕЗ НА ИМОВИНУ (од 5011 до 5016) | Y44: =UnObr5!D14 -> 0 | AD44: =UnObr5!E14 -> 0 | AJ44: =UnObr5!F14 -> 0 | AO44: =UnObr5!G14 -> 0 | AT44: =UnObr5!H14 -> 0 | AY44: =UnObr5!I14 -> 0 | BC44: =UnObr5!J14 -> 0 | BH44: =UnObr5!K14 -> 0
A45: 5011 | D45: 713100 | H45: Периодични порези на непокретности | Y45: =UnObr5!D15 -> 0 | AD45: =UnObr5!E15 -> 0 | AJ45: =UnObr5!F15 -> 0 | AO45: =UnObr5!G15 -> 0 | AT45: =UnObr5!H15 -> 0 | AY45: =UnObr5!I15 -> 0 | BC45: =UnObr5!J15 -> 0 | BH45: =UnObr5!K15 -> 0
A46: 5012 | D46: 713200 | H46: Периодични порези на нето имовину | Y46: =UnObr5!D16 -> 0 | AD46: =UnObr5!E16 -> 0 | AJ46: =UnObr5!F16 -> 0 | AO46: =UnObr5!G16 -> 0 | AT46: =UnObr5!H16 -> 0 | AY46: =UnObr5!I16 -> 0 | BC46: =UnObr5!J16 -> 0 | BH46: =UnObr5!K16 -> 0
A47: 5013 | D47: 713300 | H47: Порези на заоставштину, наслеђе и поклон | Y47: =UnObr5!D17 -> 0 | AD47: =UnObr5!E17 -> 0 | AJ47: =UnObr5!F17 -> 0 | AO47: =UnObr5!G17 -> 0 | AT47: =UnObr5!H17 -> 0 | AY47: =UnObr5!I17 -> 0 | BC47: =UnObr5!J17 -> 0 | BH47: =UnObr5!K17 -> 0
A48: 5014 | D48: 713400 | H48: Порези на финансијске и капиталне трансакције | Y48: =UnObr5!D18 -> 0 | AD48: =UnObr5!E18 -> 0 | AJ48: =UnObr5!F18 -> 0 | AO48: =UnObr5!G18 -> 0 | AT48: =UnObr5!H18 -> 0 | AY48: =UnObr5!I18 -> 0 | BC48: =UnObr5!J18 -> 0 | BH48: =UnObr5!K18 -> 0
A49: 5015 | D49: 713500 | H49: Други једнократни порези на имовину | Y49: =UnObr5!D19 -> 0 | AD49: =UnObr5!E19 -> 0 | AJ49: =UnObr5!F19 -> 0 | AO49: =UnObr5!G19 -> 0 | AT49: =UnObr5!H19 -> 0 | AY49: =UnObr5!I19 -> 0 | BC49: =UnObr5!J19 -> 0 | BH49: =UnObr5!K19 -> 0
A50: 5016 | D50: 713600 | H50: Други периодични порези на имовину | Y50: =UnObr5!D20 -> 0 | AD50: =UnObr5!E20 -> 0 | AJ50: =UnObr5!F20 -> 0 | AO50: =UnObr5!G20 -> 0 | AT50: =UnObr5!H20 -> 0 | AY50: =UnObr5!I20 -> 0 | BC50: =UnObr5!J20 -> 0 | BH50: =UnObr5!K20 -> 0
...

Sheet Kontrole
A2: ЛОГИЧКЕ КОНТРОЛЕ ЗА ЗАВРШНИ РАЧУН
A4: ПРЕДХОДНА ГОДИНА | I4: ТЕКУЋА ГОДИНА
A6: 1072 | B6: = | C6: 1239 | J6: 1072 | K6: = | L6: 1239 | R6: 2132 | S6: = | T6: 4172 | U6: = | V6: 5173
A7: =UnObr1!D77 -> 0 | B7: = | C7: =UnObr1!F249 -> 0 | J7: =UnObr1!G77 -> 80082 | K7: = | L7: =UnObr1!G249 -> 80082 | R7: =UnObr2!E134 -> 56544 | S7: = | T7: =UnObr4!E174 -> 56544 | U7: = | V7: =UnObr5!E177 -> 56544
A9: 1073 | B9: = | C9: 1240 | J9: 1073 | K9: = | L9: 1240 | R9: 2300 | S9: = | T9: 3068 | U9: = | V9: 4340 | W9: = | X9: 5341
A10: =UnObr1!D78 -> 0 | B10: = | C10: =UnObr1!F250 -> 0 | J10: =UnObr1!G78 -> 0 | K10: = | L10: =UnObr1!G250 -> 0 | R10: =UnObr2!E302 -> 186 | S10: = | T10: =UnObr3!E70 -> 186 | U10: = | V10: =UnObr4!E342 -> 186 | W10: = | X10: =UnObr5!E345 -> 186
A12: 1229 | B12: = | C12: 2357 | J12: 1229 | K12: = | L12: 2357 | R12: 3114 | S12: = | T12: 4386 | U12: = | V12: 5387 | W12: = | X12: 5441
A13: =UnObr1!F238 -> 0 | B13: = | C13: =UnObr2!D360 -> 0 | J13: =UnObr1!G238 -> 0 | K13: = | L13: =UnObr2!E360 -> 0 | R13: =UnObr3!E116 -> 0 | S13: = | T13: =UnObr4!E388 -> 0 | U13: = | V13: =UnObr5!E391 -> 0 | W13: = | X13: =UnObr5!E445 -> 0
A15: 1230 | B15: = | C15: 2358 | J15: 1230 | K15: = | L15: 2358 | R15: 2001 | S15: = | T15: 5001 | U15: = | V15: 5436
A16: =UnObr1!F239 -> 0 | B16: = | C16: =UnObr2!D361 -> 0 | J16: =UnObr1!G239 -> 0 | K16: = | L16: =UnObr2!E361 -> 0 | R16: =UnObr2!E3 -> 56730 | S16: = | T16: =UnObr5!E5 -> 56730 | U16: = | V16: =UnObr5!E440 -> 56730
A18: 2002 | B18: = | C18: 4002 | J18: 2346 | K18: = | L18: 5438 | R18: 2131 | S18: = | T18: 5172 | U18: = | V18: 5437
A19: =UnObr2!D4 -> 0 | B19: = | C19: =UnObr4!D4 -> 0 | J19: =UnObr2!E349 -> 0 | K19: = | L19: =UnObr5!E442 -> 0 | R19: =UnObr2!E133 -> 56730 | S19: = | T19: =UnObr5!E176 -> 56730 | U19: = | V19: =UnObr5!E441 -> 56730
A21: 2106 | B21: = | C21: 3002 | D21: = | E21: 4106 | J21: 2347 | K21: = | L21: 5439 | R21: 4001 | S21: = | T21: 5171
A22: =UnObr2!D108 -> 0 | B22: = | C22: =UnObr3!D4 -> 0 | D22: = | E22: =UnObr4!D108 -> 0 | J22: =UnObr2!E350 -> 0 | K22: = | L22: =UnObr5!E443 -> 0 | R22: =UnObr4!E3 -> 56730 | S22: = | T22: =UnObr5!E175 -> 56730
A24: 3027 | B24: = | C24: 4131 | J24: 2002 | K24: = | L24: 4002 | M24: = | N24: 5002 | R24: 4171 | S24: = | T24: 5435
A25: =UnObr3!D29 -> 0 | B25: = | C25: =UnObr4!D133 -> 0 | J25: =UnObr2!E4 -> 56730 | K25: = | L25: =UnObr4!E4 -> 56730 | M25: = | N25: =UnObr5!E6 -> 56730 | R25: =UnObr4!E173 -> 56730 | S25: = | T25: =UnObr5!E439 -> 56730
A27: 2132 | B27: = | C27: 4172 | J27: 2106 | K27: = | L27: 3002 | M27: = | N27: 4106 | O27: = | P27: 5106 | R27: 4434 | S27: = | T27: 5444
A28: =UnObr2!D134 -> 0 | B28: = | C28: =UnObr4!D174 -> 0 | J28: =UnObr2!E108 -> 0 | K28: = | L28: =UnObr3!E4 -> 0 | M28: = | N28: =UnObr4!E108 -> 0 | O28: = | P28: =UnObr5!E110 -> 0 | R28: =UnObr4!E436 -> 0 | S28: = | T28: =UnObr5!E448 -> 0
A30: 2300 | B30: = | C30: 3068 | D30: = | E30: 4340 | J30: 3027 | K30: = | L30: 4131 | M30: = | N30: 5131 | O30: = | P30: 5440 | R30: 4435 | S30: = | T30: 5445
A31: =UnObr2!D302 -> 0 | B31: = | C31: =UnObr3!D70 -> 0 | D31: = | E31: =UnObr4!D342 -> 0 | J31: =UnObr3!E29 -> 0 | K31: = | L31: =UnObr4!E133 -> 0 | M31: = | N31: =UnObr5!E135 -> 0 | O31: = | P31: =UnObr5!E444 -> 0 | R31: =UnObr4!E437 -> 0 | S31: = | T31: =UnObr5!E449 -> 0
A33: 3114 | B33: = | C33: 4386
A34: =UnObr3!D116 -> 0 | B34: = | C34: =UnObr4!D388 -> 0
B36: > | F36: * | K36: > | O36: *
A37: 0 | B37: > | J37: 0 | K37: >
A39: * Predhodna godina: Izdaci se pokrivaju samo do visine suficita koji se utvrdi, uključujući iznos korekcije | J39: * Tekuća godina: Izdaci se pokrivaju samo do visine suficita koji se utvrdi, uključujući iznos korekcije

Sheet KontrolnaStampa
A1: KONTROLNA ŠTAMPA - ZR
A5: JBKBS: | C5: =Podaci!M2 -> 00938
A7: Matični broj: | C7: =Podaci!Z7 -> 07348169 | F7: Ne poklapa se JBBK i MB u spisku Uprave za trezor
A10: Obrazac 1
A11: OP | B11: Kolona 4 | C11: Kolona 5 | D11: Kolona 6 | E11: Kolona 7
A12: 1072 | B12: =UnObr1!D77 -> 0 | C12: =UnObr1!E77 -> 115499 | D12: =UnObr1!F77 -> 35417 | E12: =UnObr1!G77 -> 80082
A14: Obrazac 2
A15: OP | B15: Kolona 4 | C15: Kolona 5
A16: 2001 | B16: =UnObr2!D3 -> 0 | C16: =UnObr2!E3 -> 56730
A17: 2131 | B17: =UnObr2!D133 -> 0 | C17: =UnObr2!E133 -> 56730
A18: 2346 | B18: =UnObr2!D349 -> 0 | C18: =UnObr2!E349 -> 0
A19: 2347 | B19: =UnObr2!D350 -> 0 | C19: =UnObr2!E350 -> 0
A21: Obrazac 3
A22: OP | B22: Kolona 4 | C22: Kolona 5
A23: 3001 | B23: =UnObr3!D3 -> 0 | C23: =UnObr3!E3 -> 0
A24: 3067 | B24: =UnObr3!D69 -> 0 | C24: =UnObr3!E69 -> 186
A25: 3162 | B25: =UnObr3!D164 -> 0 | C25: =UnObr3!E164 -> 0
A26: 3163 | B26: =UnObr3!D165 -> 0 | C26: =UnObr3!E165 -> 186
A28: Obrazac 4
A29: OP | B29: Kolona 4 | C29: Kolona 5
A30: 4001 | B30: =UnObr4!D3 -> 0 | C30: =UnObr4!E3 -> 56730
A31: 4171 | B31: =UnObr4!D173 -> 0 | C31: =UnObr4!E173 -> 56730
A32: 4434 | B32: =UnObr4!D436 -> 0 | C32: =UnObr4!E436 -> 0
A33: 4435 | B33: =UnObr4!D437 -> 0 | C33: =UnObr4!E437 -> 0
A34: 4436 | B34: =UnObr4!D438 -> 0 | C34: =UnObr4!E438 -> 0
A35: 4442 | B35: =UnObr4!D444 -> 0 | C35: =UnObr4!E444 -> 0
A37: Obrazac 5
A38: OP | B38: Kolona 4 | C38: Kolona 5 | D38: Kolona 6 | E38: Kolona 7 | F38: Kolona 8 | G38: Kolona 9 | H38: Kolona 10 | I38: Kolona 11
A39: 5171 | B39: =UnObr5!D175 -> 0 | C39: =UnObr5!E175 -> 56730 | D39: =UnObr5!F175 -> 44285 | E39: =UnObr5!G175 -> 0 | F39: =UnObr5!H175 -> 11461 | G39: =UnObr5!I175 -> 21 | H39: =UnObr5!J175 -> 0 | I39: =UnObr5!K175 -> 963
A40: 5435 | B40: =UnObr5!D439 -> 0 | C40: =UnObr5!E439 -> 56730 | D40: =UnObr5!F439 -> 44285 | E40: =UnObr5!G439 -> 0 | F40: =UnObr5!H439 -> 11461 | G40: =UnObr5!I439 -> 21 | H40: =UnObr5!J439 -> 0 | I40: =UnObr5!K439 -> 963
A41: 5444 | B41: =UnObr5!D448 -> 0 | C41: =UnObr5!E448 -> 0 | D41: =UnObr5!F448 -> 0 | E41: =UnObr5!G448 -> 0 | F41: =UnObr5!H448 -> 0 | G41: =UnObr5!I448 -> 0 | H41: =UnObr5!J448 -> 0 | I41: =UnObr5!K448 -> 0
A42: 5445 | B42: =UnObr5!D449 -> 0 | C42: =UnObr5!E449 -> 0 | D42: =UnObr5!F449 -> 0 | E42: =UnObr5!G449 -> 0 | F42: =UnObr5!H449 -> 0 | G42: =UnObr5!I449 -> 0 | H42: =UnObr5!J449 -> 0 | I42: =UnObr5!K449 -> 0
A45: Datum, | E45: Kontrolisao:

Sheet Spisak
A8: Орг.једин. трезора | B8: Назив | C8: Место | D8: Подрачун | J8: Трезор | K8: ЈБ КЈС | L8: Тип КЈС | M8: Ознака ДБК | N8: Матични број | O8: КД | P8: Општина | Q8: Обве- зник ГФИ | R8: ПИБ | S8: Датум пријема дд.мм.гг | T8: Измена у колони | U8: Напомена
D9: ББ | E9: - | F9: Партија | G9: РН | H9: - | I9: КБ
A10: 1 | B10: 2 | C10: 3 | D10: 4.1 | E10: - | F10: 4.2 | G10: 4.3 | H10: - | I10: 4.4 | J10: 5 | K10: 6 | L10: 7 | M10: 8 | N10: 9 | O10: 10 | P10: 11 | Q10: 12 | R10: 13 | S10: 14 | T10: 15 | U10: 16
